Workbook

Sheet Fiche de processus
A1: FICHE DE PROCESSUS — Modèle | B1: FICHE DE PROCESSUS — Modèle | C1: FICHE DE PROCESSUS — Modèle | D1: FICHE DE PROCESSUS — Modèle | E1: FICHE DE PROCESSUS — Modèle | F1: FICHE DE PROCESSUS — Modèle | G1: FICHE DE PROCESSUS — Modèle | H1: FICHE DE PROCESSUS — Modèle | I1: FICHE DE PROCESSUS — Modèle | J1: FICHE DE PROCESSUS — Modèle | K1: FICHE DE PROCESSUS — Modèle | L1: FICHE DE PROCESSUS — Modèle | M1: FICHE DE PROCESSUS — Modèle | N1: FICHE DE PROCESSUS — Modèle
A2: Les cellules jaune clair sont destinées à la saisie. Adapter le nombre de lignes et les libellés au niveau de complexité du processus. | B2: Les cellules jaune clair sont destinées à la saisie. Adapter le nombre de lignes et les libellés au niveau de complexité du processus. | C2: Les cellules jaune clair sont destinées à la saisie. Adapter le nombre de lignes et les libellés au niveau de complexité du processus. | D2: Les cellules jaune clair sont destinées à la saisie. Adapter le nombre de lignes et les libellés au niveau de complexité du processus. | E2: Les cellules jaune clair sont destinées à la saisie. Adapter le nombre de lignes et les libellés au niveau de complexité du processus. | F2: Les cellules jaune clair sont destinées à la saisie. Adapter le nombre de lignes et les libellés au niveau de complexité du processus. | G2: Les cellules jaune clair sont destinées à la saisie. Adapter le nombre de lignes et les libellés au niveau de complexité du processus. | H2: Les cellules jaune clair sont destinées à la saisie. Adapter le nombre de lignes et les libellés au niveau de complexité du processus. | I2: Les cellules jaune clair sont destinées à la saisie. Adapter le nombre de lignes et les libellés au niveau de complexité du processus. | J2: Les cellules jaune clair sont destinées à la saisie. Adapter le nombre de lignes et les libellés au niveau de complexité du processus. | K2: Les cellules jaune clair sont destinées à la saisie. Adapter le nombre de lignes et les libellés au niveau de complexité du processus. | L2: Les cellules jaune clair sont destinées à la saisie. Adapter le nombre de lignes et les libellés au niveau de complexité du processus. | M2: Les cellules jaune clair sont destinées à la saisie. Adapter le nombre de lignes et les libellés au niveau de complexité du processus. | N2: Les cellules jaune clair sont destinées à la saisie. Adapter le nombre de lignes et les libellés au niveau de complexité du processus.
A4: Nom du processus | B4: À renseigner | E4: Code | F4: PR-XX | G4: Version | H4: 1.0 | J4: ORGANIGRAMME DU PROCESSUS | K4: ORGANIGRAMME DU PROCESSUS | L4: ORGANIGRAMME DU PROCESSUS | M4: ORGANIGRAMME DU PROCESSUS | N4: ORGANIGRAMME DU PROCESSUS
A5: Type | B5: Pilotage / Réalisation / Support | E5: Date d'application | G5: Date de révision | K5: Direction / Sponsor | L5: Direction / Sponsor | M5: Direction / Sponsor
A6: Pilote | B6: À renseigner | E6: Suppléant | F6: À renseigner | G6: Validateur | H6: À renseigner | K6: ↓ | L6: ↓ | M6: ↓
A7: Périmètre | B7: Début, fin, activités couvertes et exclusions | J7: Pilote 1 / Pilote principal | K7: Pilote 1 / Pilote principal | L7: Pilote 2 / Copilote | M7: Pilote 2 / Copilote | N7: Pilote 3 / Référent
J8: ↓ répartition et coordination des sous-processus ↓ | K8: ↓ répartition et coordination des sous-processus ↓ | L8: ↓ répartition et coordination des sous-processus ↓ | M8: ↓ répartition et coordination des sous-processus ↓ | N8: ↓ répartition et coordination des sous-processus ↓
J9: Sous-processus 1 | K9: Sous-processus 1 | L9: Sous-processus 2 | M9: Sous-processus 2 | N9: Sous-processus 3
J10: ↓ | K10: ↓ | L10: ↓ | M10: ↓ | N10: ↓
J11: Sous-processus 4 — Pilote / référent | K11: Sous-processus 4 — Pilote / référent | L11: Sous-processus 5 — Pilote / référent | M11: Sous-processus 5 — Pilote / référent | N11: Contributeurs
A12: CARTOGRAPHIE DU PROCESSUS — Entrées → Activités → Sorties | B12: CARTOGRAPHIE DU PROCESSUS — Entrées → Activités → Sorties | C12: CARTOGRAPHIE DU PROCESSUS — Entrées → Activités → Sorties | D12: CARTOGRAPHIE DU PROCESSUS — Entrées → Activités → Sorties | E12: CARTOGRAPHIE DU PROCESSUS — Entrées → Activités → Sorties | F12: CARTOGRAPHIE DU PROCESSUS — Entrées → Activités → Sorties | G12: CARTOGRAPHIE DU PROCESSUS — Entrées → Activités → Sorties | H12: CARTOGRAPHIE DU PROCESSUS — Entrées → Activités → Sorties | I12: CARTOGRAPHIE DU PROCESSUS — Entrées → Activités → Sorties | J12: CARTOGRAPHIE DU PROCESSUS — Entrées → Activités → Sorties | K12: CARTOGRAPHIE DU PROCESSUS — Entrées → Activités → Sorties | L12: CARTOGRAPHIE DU PROCESSUS — Entrées → Activités → Sorties | M12: CARTOGRAPHIE DU PROCESSUS — Entrées → Activités → Sorties | N12: CARTOGRAPHIE DU PROCESSUS — Entrées → Activités → Sorties
A13: DONNÉES D'ENTRÉE | B13: Émetteur / origine | C13: Exigence associée | D13: Critère d'acceptation | E13: N° | F13: ACTIVITÉS PRINCIPALES | G13: Responsable | H13: Méthode / moyens | I13: Point de maîtrise | J13: Enregistrement / preuve | K13: DONNÉES DE SORTIE | L13: Destinataire | M13: Exigence associée | N13: Critère d'acceptation
A14: À renseigner | E14: 1 | F14: À renseigner | K14: À renseigner
A15: À renseigner | E15: 2 | F15: À renseigner | K15: À renseigner
A16: À renseigner | E16: 3 | F16: À renseigner | K16: À renseigner
A17: À renseigner | E17: 4 | F17: À renseigner | K17: À renseigner
A18: À renseigner | E18: 5 | F18: À renseigner | K18: À renseigner
A19: À renseigner | E19: 6 | F19: À renseigner | K19: À renseigner
A20: À renseigner | E20: 7 | F20: À renseigner | K20: À renseigner
A21: À renseigner | E21: 8 | F21: À renseigner | K21: À renseigner
A23: SOUS-PROCESSUS ET INTERACTIONS | B23: SOUS-PROCESSUS ET INTERACTIONS | C23: SOUS-PROCESSUS ET INTERACTIONS | D23: SOUS-PROCESSUS ET INTERACTIONS | E23: SOUS-PROCESSUS ET INTERACTIONS | F23: SOUS-PROCESSUS ET INTERACTIONS | G23: SOUS-PROCESSUS ET INTERACTIONS | H23: SOUS-PROCESSUS ET INTERACTIONS | I23: SOUS-PROCESSUS ET INTERACTIONS | J23: SOUS-PROCESSUS ET INTERACTIONS | K23: SOUS-PROCESSUS ET INTERACTIONS | L23: SOUS-PROCESSUS ET INTERACTIONS | M23: SOUS-PROCESSUS ET INTERACTIONS | N23: SOUS-PROCESSUS ET INTERACTIONS
A24: N° | B24: Sous-processus | C24: Finalité | D24: Déclencheur | E24: Sortie attendue | F24: Responsable | G24: Processus amont | H24: Processus aval | I24: Parties intéressées | J24: Ressources | K24: Documents applicables | L24: Risques clés | M24: Indicateur | N24: Fréquence de revue
A25: 1 | B25: À renseigner
A26: 2 | B26: À renseigner
A27: 3 | B27: À renseigner
A28: 4 | B28: À renseigner
A29: 5 | B29: À renseigner
A30: 6 | B30: À renseigner
A32: RESSOURCES, DOCUMENTS ET EXIGENCES APPLICABLES | B32: RESSOURCES, DOCUMENTS ET EXIGENCES APPLICABLES | C32: RESSOURCES, DOCUMENTS ET EXIGENCES APPLICABLES | D32: RESSOURCES, DOCUMENTS ET EXIGENCES APPLICABLES | E32: RESSOURCES, DOCUMENTS ET EXIGENCES APPLICABLES | F32: RESSOURCES, DOCUMENTS ET EXIGENCES APPLICABLES | G32: RESSOURCES, DOCUMENTS ET EXIGENCES APPLICABLES | H32: RESSOURCES, DOCUMENTS ET EXIGENCES APPLICABLES | I32: RESSOURCES, DOCUMENTS ET EXIGENCES APPLICABLES | J32: RESSOURCES, DOCUMENTS ET EXIGENCES APPLICABLES | K32: RESSOURCES, DOCUMENTS ET EXIGENCES APPLICABLES | L32: RESSOURCES, DOCUMENTS ET EXIGENCES APPLICABLES | M32: RESSOURCES, DOCUMENTS ET EXIGENCES APPLICABLES | N32: RESSOURCES, DOCUMENTS ET EXIGENCES APPLICABLES
A33: Ressources humaines / compétences | B33: Infrastructures / outils | C33: Informations nécessaires | D33: Documents / procédures | E33: Exigences clients | F33: Exigences réglementaires | G33: Autres exigences internes | H33: Commentaires / points de vigilance | I33: Commentaires / points de vigilance | J33: Commentaires / points de vigilance | K33: Commentaires / points de vigilance | L33: Commentaires / points de vigilance | M33: Commentaires / points de vigilance | N33: Commentaires / points de vigilance
A34: À renseigner | B34: À renseigner | C34: À renseigner | D34: À renseigner | E34: À renseigner | F34: À renseigner | G34: À renseigner | H34: À renseigner | I34: À renseigner | J34: À renseigner | K34: À renseigner | L34: À renseigner | M34: À renseigner | N34: À renseigner
A35: À renseigner | B35: À renseigner | C35: À renseigner | D35: À renseigner | E35: À renseigner | F35: À renseigner | G35: À renseigner | H35: À renseigner | I35: À renseigner | J35: À renseigner | K35: À renseigner | L35: À renseigner | M35: À renseigner | N35: À renseigner
A36: À renseigner | B36: À renseigner | C36: À renseigner | D36: À renseigner | E36: À renseigner | F36: À renseigner | G36: À renseigner | H36: À renseigner | I36: À renseigner | J36: À renseigner | K36: À renseigner | L36: À renseigner | M36: À renseigner | N36: À renseigner

Sheet Pilotage et revue
A1: PILOTAGE ET REVUE DE PROCESSUS — Modèle | B1: PILOTAGE ET REVUE DE PROCESSUS — Modèle | C1: PILOTAGE ET REVUE DE PROCESSUS — Modèle | D1: PILOTAGE ET REVUE DE PROCESSUS — Modèle | E1: PILOTAGE ET REVUE DE PROCESSUS — Modèle | F1: PILOTAGE ET REVUE DE PROCESSUS — Modèle | G1: PILOTAGE ET REVUE DE PROCESSUS — Modèle | H1: PILOTAGE ET REVUE DE PROCESSUS — Modèle | I1: PILOTAGE ET REVUE DE PROCESSUS — Modèle | J1: PILOTAGE ET REVUE DE PROCESSUS — Modèle | K1: PILOTAGE ET REVUE DE PROCESSUS — Modèle | L1: PILOTAGE ET REVUE DE PROCESSUS — Modèle | M1: PILOTAGE ET REVUE DE PROCESSUS — Modèle | N1: PILOTAGE ET REVUE DE PROCESSUS — Modèle
A3: Processus | B3: À renseigner | H3: FINALITÉ DU PROCESSUS | I3: FINALITÉ DU PROCESSUS | J3: FINALITÉ DU PROCESSUS | K3: FINALITÉ DU PROCESSUS | L3: FINALITÉ DU PROCESSUS | M3: FINALITÉ DU PROCESSUS | N3: FINALITÉ DU PROCESSUS
A4: Pilote | B4: À renseigner | H4: Pourquoi le processus existe-t-il ? Quelle valeur apporte-t-il, à quels bénéficiaires et avec quel résultat attendu ? | I4: Pourquoi le processus existe-t-il ? Quelle valeur apporte-t-il, à quels bénéficiaires et avec quel résultat attendu ? | J4: Pourquoi le processus existe-t-il ? Quelle valeur apporte-t-il, à quels bénéficiaires et avec quel résultat attendu ? | K4: Pourquoi le processus existe-t-il ? Quelle valeur apporte-t-il, à quels bénéficiaires et avec quel résultat attendu ? | L4: Pourquoi le processus existe-t-il ? Quelle valeur apporte-t-il, à quels bénéficiaires et avec quel résultat attendu ? | M4: Pourquoi le processus existe-t-il ? Quelle valeur apporte-t-il, à quels bénéficiaires et avec quel résultat attendu ? | N4: Pourquoi le processus existe-t-il ? Quelle valeur apporte-t-il, à quels bénéficiaires et avec quel résultat attendu ?
A5: Période analysée | B5: À renseigner | H5: Pourquoi le processus existe-t-il ? Quelle valeur apporte-t-il, à quels bénéficiaires et avec quel résultat attendu ? | I5: Pourquoi le processus existe-t-il ? Quelle valeur apporte-t-il, à quels bénéficiaires et avec quel résultat attendu ? | J5: Pourquoi le processus existe-t-il ? Quelle valeur apporte-t-il, à quels bénéficiaires et avec quel résultat attendu ? | K5: Pourquoi le processus existe-t-il ? Quelle valeur apporte-t-il, à quels bénéficiaires et avec quel résultat attendu ? | L5: Pourquoi le processus existe-t-il ? Quelle valeur apporte-t-il, à quels bénéficiaires et avec quel résultat attendu ? | M5: Pourquoi le processus existe-t-il ? Quelle valeur apporte-t-il, à quels bénéficiaires et avec quel résultat attendu ? | N5: Pourquoi le processus existe-t-il ? Quelle valeur apporte-t-il, à quels bénéficiaires et avec quel résultat attendu ?
A6: Date de revue | H6: Pourquoi le processus existe-t-il ? Quelle valeur apporte-t-il, à quels bénéficiaires et avec quel résultat attendu ? | I6: Pourquoi le processus existe-t-il ? Quelle valeur apporte-t-il, à quels bénéficiaires et avec quel résultat attendu ? | J6: Pourquoi le processus existe-t-il ? Quelle valeur apporte-t-il, à quels bénéficiaires et avec quel résultat attendu ? | K6: Pourquoi le processus existe-t-il ? Quelle valeur apporte-t-il, à quels bénéficiaires et avec quel résultat attendu ? | L6: Pourquoi le processus existe-t-il ? Quelle valeur apporte-t-il, à quels bénéficiaires et avec quel résultat attendu ? | M6: Pourquoi le processus existe-t-il ? Quelle valeur apporte-t-il, à quels bénéficiaires et avec quel résultat attendu ? | N6: Pourquoi le processus existe-t-il ? Quelle valeur apporte-t-il, à quels bénéficiaires et avec quel résultat attendu ?
A8: ANALYSE SWOT | B8: ANALYSE SWOT | C8: ANALYSE SWOT | D8: ANALYSE SWOT | E8: ANALYSE SWOT | F8: ANALYSE SWOT | G8: ANALYSE SWOT | H8: ANALYSE SWOT | I8: ANALYSE SWOT | J8: ANALYSE SWOT | K8: ANALYSE SWOT | L8: ANALYSE SWOT | M8: ANALYSE SWOT | N8: ANALYSE SWOT
A9: FORCES — facteurs internes favorables | B9: FORCES — facteurs internes favorables | C9: FORCES — facteurs internes favorables | D9: FORCES — facteurs internes favorables | E9: FORCES — facteurs internes favorables | F9: FORCES — facteurs internes favorables | G9: FORCES — facteurs internes favorables | H9: FAIBLESSES — facteurs internes défavorables | I9: FAIBLESSES — facteurs internes défavorables | J9: FAIBLESSES — facteurs internes défavorables | K9: FAIBLESSES — facteurs internes défavorables | L9: FAIBLESSES — facteurs internes défavorables | M9: FAIBLESSES — facteurs internes défavorables | N9: FAIBLESSES — facteurs internes défavorables
A10: • À renseigner • À renseigner • À renseigner | B10: • À renseigner • À renseigner • À renseigner | C10: • À renseigner • À renseigner • À renseigner | D10: • À renseigner • À renseigner • À renseigner | E10: • À renseigner • À renseigner • À renseigner | F10: • À renseigner • À renseigner • À renseigner | G10: • À renseigner • À renseigner • À renseigner | H10: À renseigner | I10: À renseigner | J10: À renseigner | K10: À renseigner | L10: À renseigner | M10: À renseigner | N10: À renseigner
A11: • À renseigner • À renseigner • À renseigner | B11: • À renseigner • À renseigner • À renseigner | C11: • À renseigner • À renseigner • À renseigner | D11: • À renseigner • À renseigner • À renseigner | E11: • À renseigner • À renseigner • À renseigner | F11: • À renseigner • À renseigner • À renseigner | G11: • À renseigner • À renseigner • À renseigner | H11: À renseigner | I11: À renseigner | J11: À renseigner | K11: À renseigner | L11: À renseigner | M11: À renseigner | N11: À renseigner
A12: • À renseigner • À renseigner • À renseigner | B12: • À renseigner • À renseigner • À renseigner | C12: • À renseigner • À renseigner • À renseigner | D12: • À renseigner • À renseigner • À renseigner | E12: • À renseigner • À renseigner • À renseigner | F12: • À renseigner • À renseigner • À renseigner | G12: • À renseigner • À renseigner • À renseigner | H12: À renseigner | I12: À renseigner | J12: À renseigner | K12: À renseigner | L12: À renseigner | M12: À renseigner | N12: À renseigner
A13: • À renseigner • À renseigner • À renseigner | B13: • À renseigner • À renseigner • À renseigner | C13: • À renseigner • À renseigner • À renseigner | D13: • À renseigner • À renseigner • À renseigner | E13: • À renseigner • À renseigner • À renseigner | F13: • À renseigner • À renseigner • À renseigner | G13: • À renseigner • À renseigner • À renseigner | H13: À renseigner | I13: À renseigner | J13: À renseigner | K13: À renseigner | L13: À renseigner | M13: À renseigner | N13: À renseigner
A14: OPPORTUNITÉS — facteurs externes favorables | B14: OPPORTUNITÉS — facteurs externes favorables | C14: OPPORTUNITÉS — facteurs externes favorables | D14: OPPORTUNITÉS — facteurs externes favorables | E14: OPPORTUNITÉS — facteurs externes favorables | F14: OPPORTUNITÉS — facteurs externes favorables | G14: OPPORTUNITÉS — facteurs externes favorables | H14: MENACES — facteurs externes défavorables | I14: MENACES — facteurs externes défavorables | J14: MENACES — facteurs externes défavorables | K14: MENACES — facteurs externes défavorables | L14: MENACES — facteurs externes défavorables | M14: MENACES — facteurs externes défavorables | N14: MENACES — facteurs externes défavorables
A15: • À renseigner • À renseigner • À renseigner | B15: • À renseigner • À renseigner • À renseigner | C15: • À renseigner • À renseigner • À renseigner | D15: • À renseigner • À renseigner • À renseigner | E15: • À renseigner • À renseigner • À renseigner | F15: • À renseigner • À renseigner • À renseigner | G15: • À renseigner • À renseigner • À renseigner | H15: À renseigner | I15: À renseigner | J15: À renseigner | K15: À renseigner | L15: À renseigner | M15: À renseigner | N15: À renseigner
A16: • À renseigner • À renseigner • À renseigner | B16: • À renseigner • À renseigner • À renseigner | C16: • À renseigner • À renseigner • À renseigner | D16: • À renseigner • À renseigner • À renseigner | E16: • À renseigner • À renseigner • À renseigner | F16: • À renseigner • À renseigner • À renseigner | G16: • À renseigner • À renseigner • À renseigner | H16: À renseigner | I16: À renseigner | J16: À renseigner | K16: À renseigner | L16: À renseigner | M16: À renseigner | N16: À renseigner
A17: • À renseigner • À renseigner • À renseigner | B17: • À renseigner • À renseigner • À renseigner | C17: • À renseigner • À renseigner • À renseigner | D17: • À renseigner • À renseigner • À renseigner | E17: • À renseigner • À renseigner • À renseigner | F17: • À renseigner • À renseigner • À renseigner | G17: • À renseigner • À renseigner • À renseigner | H17: À renseigner | I17: À renseigner | J17: À renseigner | K17: À renseigner | L17: À renseigner | M17: À renseigner | N17: À renseigner
A18: • À renseigner • À renseigner • À renseigner | B18: • À renseigner • À renseigner • À renseigner | C18: • À renseigner • À renseigner • À renseigner | D18: • À renseigner • À renseigner • À renseigner | E18: • À renseigner • À renseigner • À renseigner | F18: • À renseigner • À renseigner • À renseigner | G18: • À renseigner • À renseigner • À renseigner | H18: À renseigner | I18: À renseigner | J18: À renseigner | K18: À renseigner | L18: À renseigner | M18: À renseigner | N18: À renseigner
A20: RISQUES ET OPPORTUNITÉS | B20: RISQUES ET OPPORTUNITÉS | C20: RISQUES ET OPPORTUNITÉS | D20: RISQUES ET OPPORTUNITÉS | E20: RISQUES ET OPPORTUNITÉS | F20: RISQUES ET OPPORTUNITÉS | G20: RISQUES ET OPPORTUNITÉS | H20: RISQUES ET OPPORTUNITÉS | I20: RISQUES ET OPPORTUNITÉS | J20: RISQUES ET OPPORTUNITÉS | K20: RISQUES ET OPPORTUNITÉS | L20: RISQUES ET OPPORTUNITÉS | M20: RISQUES ET OPPORTUNITÉS | N20: RISQUES ET OPPORTUNITÉS
A21: ID | B21: Type | C21: Description | D21: Cause / contexte | E21: Effet attendu ou redouté | F21: P initiale | G21: G initiale | H21: Score initial | I21: Traitement décidé | J21: Responsable | K21: Échéance | L21: P résiduelle | M21: G résiduelle | N21: Score résiduel
A22: RO-01 | B22: Risque | C22: À renseigner | F22: 1 | G22: 1 | H22: =F22*G22 -> 1 | L22: 1 | M22: 1 | N22: =L22*M22 -> 1
A23: RO-02 | B23: Risque | C23: À renseigner | F23: 1 | G23: 1 | H23: =F23*G23 -> 1 | L23: 1 | M23: 1 | N23: =L23*M23 -> 1
A24: RO-03 | B24: Risque | C24: À renseigner | F24: 1 | G24: 1 | H24: =F24*G24 -> 1 | L24: 1 | M24: 1 | N24: =L24*M24 -> 1
A25: RO-04 | B25: Risque | C25: À renseigner | F25: 1 | G25: 1 | H25: =F25*G25 -> 1 | L25: 1 | M25: 1 | N25: =L25*M25 -> 1
A26: RO-05 | B26: Risque | C26: À renseigner | F26: 1 | G26: 1 | H26: =F26*G26 -> 1 | L26: 1 | M26: 1 | N26: =L26*M26 -> 1
A27: RO-06 | B27: Risque | C27: À renseigner | F27: 1 | G27: 1 | H27: =F27*G27 -> 1 | L27: 1 | M27: 1 | N27: =L27*M27 -> 1
A28: RO-07 | B28: Risque | C28: À renseigner | F28: 1 | G28: 1 | H28: =F28*G28 -> 1 | L28: 1 | M28: 1 | N28: =L28*M28 -> 1
A29: RO-08 | B29: Risque | C29: À renseigner | F29: 1 | G29: 1 | H29: =F29*G29 -> 1 | L29: 1 | M29: 1 | N29: =L29*M29 -> 1
A31: PLAN D'ACTIONS — constats SWOT intégrés automatiquement | B31: PLAN D'ACTIONS — constats SWOT intégrés automatiquement | C31: PLAN D'ACTIONS — constats SWOT intégrés automatiquement | D31: PLAN D'ACTIONS — constats SWOT intégrés automatiquement | E31: PLAN D'ACTIONS — constats SWOT intégrés automatiquement | F31: PLAN D'ACTIONS — constats SWOT intégrés automatiquement | G31: PLAN D'ACTIONS — constats SWOT intégrés automatiquement | H31: PLAN D'ACTIONS — constats SWOT intégrés automatiquement | I31: PLAN D'ACTIONS — constats SWOT intégrés automatiquement | J31: PLAN D'ACTIONS — constats SWOT intégrés automatiquement | K31: PLAN D'ACTIONS — constats SWOT intégrés automatiquement | L31: PLAN D'ACTIONS — constats SWOT intégrés automatiquement | M31: PLAN D'ACTIONS — constats SWOT intégrés automatiquement | N31: PLAN D'ACTIONS — constats SWOT intégrés automatiquement | O31: PLAN D'ACTIONS — constats SWOT intégrés automatiquement
A32: N° | B32: Origine | C32: Constat issu du SWOT | D32: Action à mettre en œuvre | E32: Résultat attendu | F32: Pilote | G32: Contributeurs | H32: Priorité | I32: Date début | J32: Échéance | K32: Statut | L32: Avancement | M32: Preuve d'efficacité | N32: Date de clôture | O32: Commentaires
A33: 1 | B33: SWOT — Faiblesse | C33: =IF(H10="À renseigner","",H10) | D33: À renseigner | H33: Moyenne | K33: À faire | L33: 0
A34: 2 | B34: SWOT — Faiblesse | C34: =IF(H11="À renseigner","",H11) | D34: À renseigner | H34: Moyenne | K34: À faire | L34: 0
A35: 3 | B35: SWOT — Faiblesse | C35: =IF(H12="À renseigner","",H12) | D35: À renseigner | H35: Moyenne | K35: À faire | L35: 0
A36: 4 | B36: SWOT — Faiblesse | C36: =IF(H13="À renseigner","",H13) | D36: À renseigner | H36: Moyenne | K36: À faire | L36: 0
A37: 5 | B37: SWOT — Menace | C37: =IF(H15="À renseigner","",H15) | D37: À renseigner | H37: Moyenne | K37: À faire | L37: 0
A38: 6 | B38: SWOT — Menace | C38: =IF(H16="À renseigner","",H16) | D38: À renseigner | H38: Moyenne | K38: À faire | L38: 0
A39: 7 | B39: SWOT — Menace | C39: =IF(H17="À renseigner","",H17) | D39: À renseigner | H39: Moyenne | K39: À faire | L39: 0
A40: 8 | B40: SWOT — Menace | C40: =IF(H18="À renseigner","",H18) | D40: À renseigner | H40: Moyenne | K40: À faire | L40: 0
A41: 9 | B41: Autre source | C41: À renseigner | D41: À renseigner | H41: Moyenne | K41: À faire | L41: 0
A42: 10 | B42: Autre source | C42: À renseigner | D42: À renseigner | H42: Moyenne | K42: À faire | L42: 0
A44: SUIVI ANNUEL DES KPI | B44: SUIVI ANNUEL DES KPI | C44: SUIVI ANNUEL DES KPI | D44: SUIVI ANNUEL DES KPI | E44: SUIVI ANNUEL DES KPI | F44: SUIVI ANNUEL DES KPI | G44: SUIVI ANNUEL DES KPI | H44: SUIVI ANNUEL DES KPI | I44: SUIVI ANNUEL DES KPI | J44: SUIVI ANNUEL DES KPI | K44: SUIVI ANNUEL DES KPI | L44: SUIVI ANNUEL DES KPI | M44: SUIVI ANNUEL DES KPI | N44: SUIVI ANNUEL DES KPI | O44: SUIVI ANNUEL DES KPI | P44: SUIVI ANNUEL DES KPI | Q44: SUIVI ANNUEL DES KPI | R44: SUIVI ANNUEL DES KPI | S44: SUIVI ANNUEL DES KPI | T44: SUIVI ANNUEL DES KPI
A45: KPI | B45: Finalité / mode de calcul | C45: Pilote | D45: Fréquence | E45: Unité | F45: Sens souhaité | G45: Objectif | H45: Jan | I45: Fév | J45: Mar | K45: Avr | L45: Mai | M45: Juin | N45: Juil | O45: Août | P45: Sept | Q45: Oct | R45: Nov | S45: Déc | T45: Moyenne annuelle
A46: KPI 1 — à adapter | B46: Décrire précisément le numérateur, le dénominateur et la source. | D46: Mensuelle | E46: % | F46: ≥ | G46: 0.95 | T46: =IFERROR(AVERAGE(H46:S46),"")
A47: KPI 2 — à adapter | B47: Décrire précisément le mode de calcul et les exclusions. | D47: Mensuelle | E47: Nb | F47: ≤ | G47: 0 | T47: =IFERROR(AVERAGE(H47:S47),"")
A48: KPI 3 — à adapter | B48: Décrire précisément le mode de calcul et la source. | D48: Trimestrielle | E48: Jours | F48: ≤ | G48: 0 | T48: =IFERROR(AVERAGE(H48:S48),"")
A49: KPI 4 — à adapter | B49: Décrire précisément le mode de calcul et la source. | D49: Mensuelle | E49: % | F49: ≥ | G49: 0.9 | T49: =IFERROR(AVERAGE(H49:S49),"")
A50: KPI 5 — à adapter | B50: Décrire précisément le mode de calcul et la source. | D50: Mensuelle | E50: € | F50: ≤ | G50: 0 | T50: =IFERROR(AVERAGE(H50:S50),"")
A52: BILAN POUR LA REVUE DE PROCESSUS | B52: BILAN POUR LA REVUE DE PROCESSUS | C52: BILAN POUR LA REVUE DE PROCESSUS | D52: BILAN POUR LA REVUE DE PROCESSUS | E52: BILAN POUR LA REVUE DE PROCESSUS | F52: BILAN POUR LA REVUE DE PROCESSUS | G52: BILAN POUR LA REVUE DE PROCESSUS | H52: BILAN POUR LA REVUE DE PROCESSUS | I52: BILAN POUR LA REVUE DE PROCESSUS | J52: BILAN POUR LA REVUE DE PROCESSUS | K52: BILAN POUR LA REVUE DE PROCESSUS | L52: BILAN POUR LA REVUE DE PROCESSUS | M52: BILAN POUR LA REVUE DE PROCESSUS | N52: BILAN POUR LA REVUE DE PROCESSUS
A53: Synthèse de la performance | B53: Synthèse de la performance | C53: Synthèse de la performance | D53: Résumer les résultats, tendances et écarts significatifs. | E53: Résumer les résultats, tendances et écarts significatifs. | F53: Résumer les résultats, tendances et écarts significatifs. | G53: Résumer les résultats, tendances et écarts significatifs. | H53: Résumer les résultats, tendances et écarts significatifs. | I53: Résumer les résultats, tendances et écarts significatifs. | J53: Résumer les résultats, tendances et écarts significatifs. | K53: Résumer les résultats, tendances et écarts significatifs. | L53: Résumer les résultats, tendances et écarts significatifs. | M53: Résumer les résultats, tendances et écarts significatifs. | N53: Résumer les résultats, tendances et écarts significatifs.
A54: Synthèse de la performance | B54: Synthèse de la performance | C54: Synthèse de la performance | D54: Résumer les résultats, tendances et écarts significatifs. | E54: Résumer les résultats, tendances et écarts significatifs. | F54: Résumer les résultats, tendances et écarts significatifs. | G54: Résumer les résultats, tendances et écarts significatifs. | H54: Résumer les résultats, tendances et écarts significatifs. | I54: Résumer les résultats, tendances et écarts significatifs. | J54: Résumer les résultats, tendances et écarts significatifs. | K54: Résumer les résultats, tendances et écarts significatifs. | L54: Résumer les résultats, tendances et écarts significatifs. | M54: Résumer les résultats, tendances et écarts significatifs. | N54: Résumer les résultats, tendances et écarts significatifs.
A55: Atteinte des objectifs | B55: Atteinte des objectifs | C55: Atteinte des objectifs | D55: Préciser les objectifs atteints, partiellement atteints ou non atteints. | E55: Préciser les objectifs atteints, partiellement atteints ou non atteints. | F55: Préciser les objectifs atteints, partiellement atteints ou non atteints. | G55: Préciser les objectifs atteints, partiellement atteints ou non atteints. | H55: Préciser les objectifs atteints, partiellement atteints ou non atteints. | I55: Préciser les objectifs atteints, partiellement atteints ou non atteints. | J55: Préciser les objectifs atteints, partiellement atteints ou non atteints. | K55: Préciser les objectifs atteints, partiellement atteints ou non atteints. | L55: Préciser les objectifs atteints, partiellement atteints ou non atteints. | M55: Préciser les objectifs atteints, partiellement atteints ou non atteints. | N55: Préciser les objectifs atteints, partiellement atteints ou non atteints.
A56: Atteinte des objectifs | B56: Atteinte des objectifs | C56: Atteinte des objectifs | D56: Préciser les objectifs atteints, partiellement atteints ou non atteints. | E56: Préciser les objectifs atteints, partiellement atteints ou non atteints. | F56: Préciser les objectifs atteints, partiellement atteints ou non atteints. | G56: Préciser les objectifs atteints, partiellement atteints ou non atteints. | H56: Préciser les objectifs atteints, partiellement atteints ou non atteints. | I56: Préciser les objectifs atteints, partiellement atteints ou non atteints. | J56: Préciser les objectifs atteints, partiellement atteints ou non atteints. | K56: Préciser les objectifs atteints, partiellement atteints ou non atteints. | L56: Préciser les objectifs atteints, partiellement atteints ou non atteints. | M56: Préciser les objectifs atteints, partiellement atteints ou non atteints. | N56: Préciser les objectifs atteints, partiellement atteints ou non atteints.
A57: Retour clients et parties intéressées | B57: Retour clients et parties intéressées | C57: Retour clients et parties intéressées | D57: Réclamations, satisfaction, besoins nouveaux, retours internes. | E57: Réclamations, satisfaction, besoins nouveaux, retours internes. | F57: Réclamations, satisfaction, besoins nouveaux, retours internes. | G57: Réclamations, satisfaction, besoins nouveaux, retours internes. | H57: Réclamations, satisfaction, besoins nouveaux, retours internes. | I57: Réclamations, satisfaction, besoins nouveaux, retours internes. | J57: Réclamations, satisfaction, besoins nouveaux, retours internes. | K57: Réclamations, satisfaction, besoins nouveaux, retours internes. | L57: Réclamations, satisfaction, besoins nouveaux, retours internes. | M57: Réclamations, satisfaction, besoins nouveaux, retours internes. | N57: Réclamations, satisfaction, besoins nouveaux, retours internes.
A58: Retour clients et parties intéressées | B58: Retour clients et parties intéressées | C58: Retour clients et parties intéressées | D58: Réclamations, satisfaction, besoins nouveaux, retours internes. | E58: Réclamations, satisfaction, besoins nouveaux, retours internes. | F58: Réclamations, satisfaction, besoins nouveaux, retours internes. | G58: Réclamations, satisfaction, besoins nouveaux, retours internes. | H58: Réclamations, satisfaction, besoins nouveaux, retours internes. | I58: Réclamations, satisfaction, besoins nouveaux, retours internes. | J58: Réclamations, satisfaction, besoins nouveaux, retours internes. | K58: Réclamations, satisfaction, besoins nouveaux, retours internes. | L58: Réclamations, satisfaction, besoins nouveaux, retours internes. | M58: Réclamations, satisfaction, besoins nouveaux, retours internes. | N58: Réclamations, satisfaction, besoins nouveaux, retours internes.
A59: Non-conformités / incidents | B59: Non-conformités / incidents | C59: Non-conformités / incidents | D59: Principaux écarts, causes, conséquences et efficacité des corrections. | E59: Principaux écarts, causes, conséquences et efficacité des corrections. | F59: Principaux écarts, causes, conséquences et efficacité des corrections. | G59: Principaux écarts, causes, conséquences et efficacité des corrections. | H59: Principaux écarts, causes, conséquences et efficacité des corrections. | I59: Principaux écarts, causes, conséquences et efficacité des corrections. | J59: Principaux écarts, causes, conséquences et efficacité des corrections. | K59: Principaux écarts, causes, conséquences et efficacité des corrections. | L59: Principaux écarts, causes, conséquences et efficacité des corrections. | M59: Principaux écarts, causes, conséquences et efficacité des corrections. | N59: Principaux écarts, causes, conséquences et efficacité des corrections.
A60: Non-conformités / incidents | B60: Non-conformités / incidents | C60: Non-conformités / incidents | D60: Principaux écarts, causes, conséquences et efficacité des corrections. | E60: Principaux écarts, causes, conséquences et efficacité des corrections. | F60: Principaux écarts, causes, conséquences et efficacité des corrections. | G60: Principaux écarts, causes, conséquences et efficacité des corrections. | H60: Principaux écarts, causes, conséquences et efficacité des corrections. | I60: Principaux écarts, causes, conséquences et efficacité des corrections. | J60: Principaux écarts, causes, conséquences et efficacité des corrections. | K60: Principaux écarts, causes, conséquences et efficacité des corrections. | L60: Principaux écarts, causes, conséquences et efficacité des corrections. | M60: Principaux écarts, causes, conséquences et efficacité des corrections. | N60: Principaux écarts, causes, conséquences et efficacité des corrections.
A61: Évolution des risques et opportunités | B61: Évolution des risques et opportunités | C61: Évolution des risques et opportunités | D61: Nouveaux éléments, risques maîtrisés, opportunités concrétisées. | E61: Nouveaux éléments, risques maîtrisés, opportunités concrétisées. | F61: Nouveaux éléments, risques maîtrisés, opportunités concrétisées. | G61: Nouveaux éléments, risques maîtrisés, opportunités concrétisées. | H61: Nouveaux éléments, risques maîtrisés, opportunités concrétisées. | I61: Nouveaux éléments, risques maîtrisés, opportunités concrétisées. | J61: Nouveaux éléments, risques maîtrisés, opportunités concrétisées. | K61: Nouveaux éléments, risques maîtrisés, opportunités concrétisées. | L61: Nouveaux éléments, risques maîtrisés, opportunités concrétisées. | M61: Nouveaux éléments, risques maîtrisés, opportunités concrétisées. | N61: Nouveaux éléments, risques maîtrisés, opportunités concrétisées.
A62: Évolution des risques et opportunités | B62: Évolution des risques et opportunités | C62: Évolution des risques et opportunités | D62: Nouveaux éléments, risques maîtrisés, opportunités concrétisées. | E62: Nouveaux éléments, risques maîtrisés, opportunités concrétisées. | F62: Nouveaux éléments, risques maîtrisés, opportunités concrétisées. | G62: Nouveaux éléments, risques maîtrisés, opportunités concrétisées. | H62: Nouveaux éléments, risques maîtrisés, opportunités concrétisées. | I62: Nouveaux éléments, risques maîtrisés, opportunités concrétisées. | J62: Nouveaux éléments, risques maîtrisés, opportunités concrétisées. | K62: Nouveaux éléments, risques maîtrisés, opportunités concrétisées. | L62: Nouveaux éléments, risques maîtrisés, opportunités concrétisées. | M62: Nouveaux éléments, risques maîtrisés, opportunités concrétisées. | N62: Nouveaux éléments, risques maîtrisés, opportunités concrétisées.
A63: Ressources et compétences | B63: Ressources et compétences | C63: Ressources et compétences | D63: Adéquation des moyens, compétences, charge, investissements nécessaires. | E63: Adéquation des moyens, compétences, charge, investissements nécessaires. | F63: Adéquation des moyens, compétences, charge, investissements nécessaires. | G63: Adéquation des moyens, compétences, charge, investissements nécessaires. | H63: Adéquation des moyens, compétences, charge, investissements nécessaires. | I63: Adéquation des moyens, compétences, charge, investissements nécessaires. | J63: Adéquation des moyens, compétences, charge, investissements nécessaires. | K63: Adéquation des moyens, compétences, charge, investissements nécessaires. | L63: Adéquation des moyens, compétences, charge, investissements nécessaires. | M63: Adéquation des moyens, compétences, charge, investissements nécessaires. | N63: Adéquation des moyens, compétences, charge, investissements nécessaires.
... A67: CONCLUSION ET DÉCISION SUR L'EFFICACITÉ DU PROCESSUS | B67: CONCLUSION ET DÉCISION SUR L'EFFICACITÉ DU PROCESSUS | C67: CONCLUSION ET DÉCISION SUR L'EFFICACITÉ DU PROCESSUS | D67: CONCLUSION ET DÉCISION SUR L'EFFICACITÉ DU PROCESSUS | E67: CONCLUSION ET DÉCISION SUR L'EFFICACITÉ DU PROCESSUS | F67: CONCLUSION ET DÉCISION SUR L'EFFICACITÉ DU PROCESSUS | G67: CONCLUSION ET DÉCISION SUR L'EFFICACITÉ DU PROCESSUS | H67: CONCLUSION ET DÉCISION SUR L'EFFICACITÉ DU PROCESSUS | I67: CONCLUSION ET DÉCISION SUR L'EFFICACITÉ DU PROCESSUS | J67: CONCLUSION ET DÉCISION SUR L'EFFICACITÉ DU PROCESSUS | K67: CONCLUSION ET DÉCISION SUR L'EFFICACITÉ DU PROCESSUS | L67: CONCLUSION ET DÉCISION SUR L'EFFICACITÉ DU PROCESSUS | M67: CONCLUSION ET DÉCISION SUR L'EFFICACITÉ DU PROCESSUS | N67: CONCLUSION ET DÉCISION SUR L'EFFICACITÉ DU PROCESSUS
A68: Conclusion générale et décisions | B68: Conclusion générale et décisions | C68: Conclusion générale et décisions | D68: Conclusion générale et décisions | E68: Conclusion générale et décisions | F68: Conclusion générale et décisions | G68: Conclusion générale et décisions | H68: Conclusion générale et décisions | I68: Conclusion générale et décisions | J68: Conclusion générale et décisions | K68: Appréciation | L68: À évaluer
A69: Conclusion générale et décisions | B69: Conclusion générale et décisions | C69: Conclusion générale et décisions | D69: Conclusion générale et décisions | E69: Conclusion générale et décisions | F69: Conclusion générale et décisions | G69: Conclusion générale et décisions | H69: Conclusion générale et décisions | I69: Conclusion générale et décisions | J69: Conclusion générale et décisions | K69: Pilote / visa
A70: Conclusion générale et décisions | B70: Conclusion générale et décisions | C70: Conclusion générale et décisions | D70: Conclusion générale et décisions | E70: Conclusion générale et décisions | F70: Conclusion générale et décisions | G70: Conclusion générale et décisions | H70: Conclusion générale et décisions | I70: Conclusion générale et décisions | J70: Conclusion générale et décisions | K70: Date

Sheet Suivi réalisation
A1: TABLEAU DE SUIVI — Niveau de réalisation du processus | B1: TABLEAU DE SUIVI — Niveau de réalisation du processus | C1: TABLEAU DE SUIVI — Niveau de réalisation du processus | D1: TABLEAU DE SUIVI — Niveau de réalisation du processus | E1: TABLEAU DE SUIVI — Niveau de réalisation du processus | F1: TABLEAU DE SUIVI — Niveau de réalisation du processus | G1: TABLEAU DE SUIVI — Niveau de réalisation du processus | H1: TABLEAU DE SUIVI — Niveau de réalisation du processus | I1: TABLEAU DE SUIVI — Niveau de réalisation du processus | J1: TABLEAU DE SUIVI — Niveau de réalisation du processus | K1: TABLEAU DE SUIVI — Niveau de réalisation du processus | L1: TABLEAU DE SUIVI — Niveau de réalisation du processus | M1: TABLEAU DE SUIVI — Niveau de réalisation du processus
A2: Le radar est alimenté automatiquement par les champs complétés dans les deux premiers onglets. La dernière dimension — revue — est renseignée manuellement. | B2: Le radar est alimenté automatiquement par les champs complétés dans les deux premiers onglets. La dernière dimension — revue — est renseignée manuellement. | C2: Le radar est alimenté automatiquement par les champs complétés dans les deux premiers onglets. La dernière dimension — revue — est renseignée manuellement. | D2: Le radar est alimenté automatiquement par les champs complétés dans les deux premiers onglets. La dernière dimension — revue — est renseignée manuellement. | E2: Le radar est alimenté automatiquement par les champs complétés dans les deux premiers onglets. La dernière dimension — revue — est renseignée manuellement. | F2: Le radar est alimenté automatiquement par les champs complétés dans les deux premiers onglets. La dernière dimension — revue — est renseignée manuellement. | G2: Le radar est alimenté automatiquement par les champs complétés dans les deux premiers onglets. La dernière dimension — revue — est renseignée manuellement. | H2: Le radar est alimenté automatiquement par les champs complétés dans les deux premiers onglets. La dernière dimension — revue — est renseignée manuellement. | I2: Le radar est alimenté automatiquement par les champs complétés dans les deux premiers onglets. La dernière dimension — revue — est renseignée manuellement. | J2: Le radar est alimenté automatiquement par les champs complétés dans les deux premiers onglets. La dernière dimension — revue — est renseignée manuellement. | K2: Le radar est alimenté automatiquement par les champs complétés dans les deux premiers onglets. La dernière dimension — revue — est renseignée manuellement. | L2: Le radar est alimenté automatiquement par les champs complétés dans les deux premiers onglets. La dernière dimension — revue — est renseignée manuellement. | M2: Le radar est alimenté automatiquement par les champs complétés dans les deux premiers onglets. La dernière dimension — revue — est renseignée manuellement.
A4: Dimension suivie | B4: Réalisation | C4: Cible
A5: Données d'entrée | B5: =COUNTIF('Fiche de processus'!A14:A21,"<>À renseigner")/8 -> 0 | C5: 1
A6: Activités principales | B6: =COUNTIF('Fiche de processus'!F14:F21,"<>À renseigner")/8 -> 0 | C6: 1
A7: Données de sortie | B7: =COUNTIF('Fiche de processus'!K14:K21,"<>À renseigner")/8 -> 0 | C7: 1
A8: Sous-processus | B8: =COUNTIF('Fiche de processus'!B25:B30,"<>À renseigner")/6 -> 0 | C8: 1
A9: Traitement risques / opportunités | B9: =COUNTIF('Pilotage et revue'!I22:I29,"<>")/8 -> 0 | C9: 1
A10: Actions clôturées | B10: =COUNTIF('Pilotage et revue'!K33:K42,"Terminé")/10 -> 0 | C10: 1
A11: Données KPI renseignées | B11: =COUNTA('Pilotage et revue'!H46:S50)/60 -> 0 | C11: 1
A12: Revue de processus réalisée | B12: 0 | C12: 1
A15: Indicateur synthétique | B15: Valeur | C15: Lecture | D15: Source
A16: Actions terminées | B16: =COUNTIF('Pilotage et revue'!K33:K42,"Terminé") -> 0 | C16: sur 10 actions | D16: Plan d'actions
A17: Risques/opportunités traités | B17: =COUNTIF('Pilotage et revue'!I22:I29,"<>") -> 0 | C17: sur 8 éléments | D17: Risques et opportunités
A18: Données KPI renseignées | B18: =COUNTA('Pilotage et revue'!H46:S50) -> 0 | C18: sur 60 valeurs mensuelles | D18: Suivi annuel des KPI
A19: Niveau moyen de réalisation | B19: =AVERAGE(B5:B12) -> 0 | C19: moyenne des 8 dimensions | D19: Radar de réalisation
