Workbook
Name CartoucheDate: #REF!
Name CartoucheMO: #REF!
Name CartoucheMOE: #REF!
Name CartoucheNom: #REF!
Name CartoucheRedac: #REF!
Name GCsortie: #REF!
Name Noms: #REF!
Name OUI: #REF!
Name s: #REF!

Sheet Page de garde
A2: Document Unique d'Evaluation des Risques Professionnels
A4: Créé le : | D4: Mise à jour le : | E4: /
A5: Nom de l'entreprise : | D5: Adresse :
A6: Activités : | D6: Téléphone :
A7: Nombre d'unités de travail : | D7: Email :
A8: Personne responsable : | D8: Nombre de salariés :
A14: Contexte :
B24: Nom de l'entreprise | C24: Répartition des salariés | D24: Activité

Sheet Index
B2: Principes de précautions | E2: Référence réglementaire | H2: Définitions | J2: Critères évaluation
A5: Principes de précautions
A8: Article L4121-2
A10: L'employeur met en oeuvre les mesures prévues à l'article L. 4121-1 sur le fondement des principes généraux de prévention suivants :
A12: 1° Eviter les risques ;
A14: 2° Evaluer les risques qui ne peuvent pas être évités ;
A16: 3° Combattre les risques à la source ;
A18: 4° Adapter le travail à l'homme, en particulier en ce qui concerne la conception des postes de travail ainsi que le choix des équipements de travail et des méthodes de travail et de production, en vue notamment de limiter le travail monotone et le travail cadencé et de réduire les effets de ceux-ci sur la santé ;
A20: 5° Tenir compte de l'état d'évolution de la technique ;
A22: 6° Remplacer ce qui est dangereux par ce qui n'est pas dangereux ou par ce qui est moins dangereux ;
A24: 7° Planifier la prévention en y intégrant, dans un ensemble cohérent, la technique, l'organisation du travail, les conditions de travail, les relations sociales et l'influence des facteurs ambiants, notamment les risques liés au harcèlement moral et au harcèlement sexuel, tels qu'ils sont définis aux articles L. 1152-1 et L. 1153-1, ainsi que ceux liés aux agissements sexistes définis à l'article L. 1142-2-1 ;
A26: 8° Prendre des mesures de protection collective en leur donnant la priorité sur les mesures de protection individuelle ;
A28: 9° Donner les instructions appropriées aux travailleurs.
A32: Référence réglementaire : | D32: Retour haut
A34: Article R4121-1
A36: L'employeur transcrit et met à jour dans un document unique les résultats de l'évaluation des risques pour la santé et la sécurité des travailleurs à laquelle il procède en application de l'article L. 4121-3.
A39: Cette évaluation comporte un inventaire des risques identifiés dans chaque unité de travail de l'entreprise ou de l'établissement, y compris ceux liés aux ambiances thermiques.
A42: Article R4121-1-1
A44: Modifié par Décret n°2015-1885 du 30 décembre 2015 - art. 2
A46: L'employeur consigne, en annexe du document unique :
A48: 1° Les données collectives utiles à l'évaluation des expositions individuelles aux facteurs de risques mentionnés à l'article L. 4161-1 de nature à faciliter la déclaration mentionnée à cet article, le cas échéant à partir de l'identification de postes, métiers ou situations de travail figurant dans un accord collectif étendu ou un référentiel professionnel de branche homologué mentionnés à l'article L. 4161-2 ;
A50: 2° La proportion de salariés exposés aux facteurs de risques professionnels mentionnés à l'article L. 4161-1, au-delà des seuils prévus au même article. Cette proportion est actualisée en tant que de besoin lors de la mise à jour du document unique.
A53: Article R4121-2
A55: Modifié par Décret n°2022-395 du 18 mars 2022 - art. 1
A57: La mise à jour du document unique d'évaluation des risques professionnels est réalisée :
A59: 1° Au moins chaque année dans les entreprises d'au moins onze salariés ;
... A97: Un avis indiquant les modalités d'accès des travailleurs au document unique est affiché à une place convenable et aisément accessible dans les lieux de travail. Dans les entreprises ou établissements dotés d'un règlement intérieur, cet avis est affiché au même emplacement que celui réservé au règlement intérieur.
A100: Définitions | C100: Retour haut
A103: Unité de Travail :
A104: (Source INRS)
A105: L'unité de travail, ce n'est pas nécessairement un poste de travail, une fonction, une activité, un processus mais bien une situation de travail dans laquelle un ou des salariés, avec une ou des fonctions différentes et en charge d'activités différentes, est (sont) exposé(s) à un même danger.
A108: Prévention :
A109: Ensemble des actions, attitudes et comportements qui tendent à limiter/maitriser certains risques.
A112: Critères évaluation : | C112: Retour Haut
A114: Indice | B114: 1 | C114: 2 | D114: 3 | E114: 4
A115: Gravité du dommage potentiel | B115: Faible Presque accident Pas d'arrêt de travail Pas de soin à l'extérieur | C115: Modérée Arrêt de travail inférieur à 7jours Pas de suivi médical | D115: Grave Arrêt de travail supérieur à 7jours Suivi médical ou soins répétés Maladie professionnelle | E115: Très grave Incapacité Permanente Partielle Maladie professionnelle irréversible Mort
A118: Indice | B118: 2 | C118: 3 | D118: 4 | E118: 5
A119: Fréquence d'exposition | B119: Annuelle Rarement exposé | C119: Mensuelle Parfois exposé | D119: Hebdomadaire Souvent exposé | E119: Journalière Régulièrement exposé

Sheet 0
H1: 1 à <5 = Vert, Niveau de risque faible | L1: 5 à <9 = Jaune, Niveau de risque moyen
H3: 9 à <13 = Orangé, Niveau de risque important | L3: > ou =13 = Niveau de risque élevé
A4: UNITÉ DE TRAVAIL | B4: Situation de travail | C4: Source de Danger | D4: Situation à risque ou risque associé | E4: Conséquences | F4: Fréqu. Exp | G4: Gravité | H4: Risque Brut | I4: Actions de prévention existantes | J4: Formation | M4: Mode opératoire | P4: Équipements de travail (Outils) | S4: Équipements de protection (EPI/EPC) | V4: Maitrise du risque | W4: Risque résiduel | X4: Actions de prévention à mettre en place (Obligatoire si risque rédiduel est = ou > à 13) | Y4: Échéance | Z4: Pilote | AA4: Statut action | AB4: Date de clôture | AC4: Inscription PAPRIPACT | AD4: Efficacité vérifiée | AE4: Date vérification | AF4: Commentaire / preuve
J5: TOTAL (3) | K5: PARTIEL (2) | L5: ABSENT (1) | M5: TOTAL (3) | N5: PARTIEL (2) | O5: ABSENT (1) | P5: TOTAL (3) | Q5: PARTIEL (2) | R5: ABSENT (1) | S5: TOTAL (3) | T5: PARTIEL (2) | U5: ABSENT (1)
H6: =F6*G6 -> 0 | V6: =SUM(J6:L6)*SUM(M6:O6)*SUM(P6:R6)*SUM(S6:U6)/4 -> 0 | W6: =IFERROR(H6/V6,0) -> 0
H7: =F7*G7 -> 0 | V7: =SUM(J7:L7)*SUM(M7:O7)*SUM(P7:R7)*SUM(S7:U7)/4 -> 0 | W7: =IFERROR(H7/V7,0) -> 0
H8: =F8*G8 -> 0 | V8: =SUM(J8:L8)*SUM(M8:O8)*SUM(P8:R8)*SUM(S8:U8)/4 -> 0 | W8: =IFERROR(H8/V8,0) -> 0
H9: =F9*G9 -> 0 | V9: =SUM(J9:L9)*SUM(M9:O9)*SUM(P9:R9)*SUM(S9:U9)/4 -> 0 | W9: =IFERROR(H9/V9,0) -> 0
H10: =F10*G10 -> 0 | V10: =SUM(J10:L10)*SUM(M10:O10)*SUM(P10:R10)*SUM(S10:U10)/4 -> 0 | W10: =IFERROR(H10/V10,0) -> 0
H11: =F11*G11 -> 0 | V11: =SUM(J11:L11)*SUM(M11:O11)*SUM(P11:R11)*SUM(S11:U11)/4 -> 0 | W11: =IFERROR(H11/V11,0) -> 0
H12: =F12*G12 -> 0 | V12: =SUM(J12:L12)*SUM(M12:O12)*SUM(P12:R12)*SUM(S12:U12)/4 -> 0 | W12: =IFERROR(H12/V12,0) -> 0
H13: =F13*G13 -> 0 | V13: =SUM(J13:L13)*SUM(M13:O13)*SUM(P13:R13)*SUM(S13:U13)/4 -> 0 | W13: =IFERROR(H13/V13,0) -> 0
H14: =F14*G14 -> 0 | V14: =SUM(J14:L14)*SUM(M14:O14)*SUM(P14:R14)*SUM(S14:U14)/4 -> 0 | W14: =IFERROR(H14/V14,0) -> 0
H15: =F15*G15 -> 0 | V15: =SUM(J15:L15)*SUM(M15:O15)*SUM(P15:R15)*SUM(S15:U15)/4 -> 0 | W15: =IFERROR(H15/V15,0) -> 0
H16: =F16*G16 -> 0 | V16: =SUM(J16:L16)*SUM(M16:O16)*SUM(P16:R16)*SUM(S16:U16)/4 -> 0 | W16: =IFERROR(H16/V16,0) -> 0
H17: =F17*G17 -> 0 | V17: =SUM(J17:L17)*SUM(M17:O17)*SUM(P17:R17)*SUM(S17:U17)/4 -> 0 | W17: =IFERROR(H17/V17,0) -> 0
... H27: =F27*G27 -> 0 | V27: =SUM(J27:L27)*SUM(M27:O27)*SUM(P27:R27)*SUM(S27:U27)/4 -> 0 | W27: =IFERROR(H27/V27,0) -> 0
B28: Organisation du travail | C28: Surcharge de travail | D28: Gestion des compagnons | E28: Stress Burn-out | F28: 5 | G28: 3 | H28: =F28*G28 -> 15 | V28: =SUM(J28:L28)*SUM(M28:O28)*SUM(P28:R28)*SUM(S28:U28)/4 -> 0 | W28: =IFERROR(H28/V28,0) -> 0
A29: Manœuvre | B29: Heurts membres supérieurs /inférieurs | C29: Installation de fiches/piquets | D29: Utilisation d'une masse | E29: Heurts membres supérieurs/inférieurs | F29: 4 | G29: 2 | H29: =F29*G29 -> 8 | V29: =SUM(J29:L29)*SUM(M29:O29)*SUM(P29:R29)*SUM(S29:U29)/4 -> 0 | W29: =IFERROR(H29/V29,0) -> 0
C30: Réglage au sol | D30: Réglage manuel | E30: Atteinte musculaire et articulaire (lombalgie, TMS…) Posture prolongée | F30: 4 | G30: 2 | H30: =F30*G30 -> 8 | V30: =SUM(J30:L30)*SUM(M30:O30)*SUM(P30:R30)*SUM(S30:U30)/4 -> 0 | W30: =IFERROR(H30/V30,0) -> 0
C31: Montée/descente des fourgons | D31: Précpitation/Inattention | E31: Heurts membres supérieurs/inférieurs | F31: 5 | G31: 2 | H31: =F31*G31 -> 10 | V31: =SUM(J31:L31)*SUM(M31:O31)*SUM(P31:R31)*SUM(S31:U31)/4 -> 0 | W31: =IFERROR(H31/V31,0) -> 0
B32: Travaux en toutes positions | C32: Gestes répétitifs Postures inadaptées | D32: Mauvaise ergonomie au poste de travail | E32: Atteinte musculaire et articulaire (lombalgie, TMS…) | F32: 5 | G32: 2 | H32: =F32*G32 -> 10 | V32: =SUM(J32:L32)*SUM(M32:O32)*SUM(P32:R32)*SUM(S32:U32)/4 -> 0 | W32: =IFERROR(H32/V32,0) -> 0
A33: Conducteur d'engin | B33: Heurts membres supérieurs/inférieurs | C33: Accès à la cabine | D33: Chute de hauteur | E33: Heurt et blessures | F33: 5 | G33: 2 | H33: =F33*G33 -> 10 | V33: =SUM(J33:L33)*SUM(M33:O33)*SUM(P33:R33)*SUM(S33:U33)/4 -> 0 | W33: =IFERROR(H33/V33,0) -> 0
C34: Intervention sur l'engin | D34: Maintenance de l'engin lors dysfonctionnement | F34: 4 | G34: 2 | H34: =F34*G34 -> 8 | V34: =SUM(J34:L34)*SUM(M34:O34)*SUM(P34:R34)*SUM(S34:U34)/4 -> 0 | W34: =IFERROR(H34/V34,0) -> 0
B35: Heurt entre engins | C35: Plusieurs engins sur le chantier | D35: Collision | E35: Heurt et blessures | F35: 5 | G35: 2 | H35: =F35*G35 -> 10 | V35: =SUM(J35:L35)*SUM(M35:O35)*SUM(P35:R35)*SUM(S35:U35)/4 -> 0 | W35: =IFERROR(H35/V35,0) -> 0
B36: Travaux en toutes positions | C36: Gestes répétitifs Postures inadaptées | D36: Mauvaise ergonomie au poste de travail | E36: Atteinte musculaire et articulaire (lombalgie, TMS…) | F36: 5 | G36: 2 | H36: =F36*G36 -> 10 | V36: =SUM(J36:L36)*SUM(M36:O36)*SUM(P36:R36)*SUM(S36:U36)/4 -> 0 | W36: =IFERROR(H36/V36,0) -> 0
B37: Enfouissement | C37: Travail sur des monticules de terre | D37: Sous-cavement | E37: Enfouissement Etouffement | F37: 3 | G37: 3 | H37: =F37*G37 -> 9 | V37: =SUM(J37:L37)*SUM(M37:O37)*SUM(P37:R37)*SUM(S37:U37)/4 -> 0 | W37: =IFERROR(H37/V37,0) -> 0
B38: Basculement | C38: Travaux dans un environnement où le risque de basculement de l'engin est important | D38: Mauvaise appréciation du conducteur Renversement de l'engin | E38: Heurt et blessures | F38: 3 | G38: 2 | H38: =F38*G38 -> 6 | V38: =SUM(J38:L38)*SUM(M38:O38)*SUM(P38:R38)*SUM(S38:U38)/4 -> 0 | W38: =IFERROR(H38/V38,0) -> 0
B39: Risque chimique | C39: Contact avec produits dangereux | D39: Risque de projection d'huile/graisse | E39: Brûlures | F39: 4 | G39: 2 | H39: =F39*G39 -> 8 | V39: =SUM(J39:L39)*SUM(M39:O39)*SUM(P39:R39)*SUM(S39:U39)/4 -> 0 | W39: =IFERROR(H39/V39,0) -> 0
H40: =F40*G40 -> 0 | V40: =SUM(J40:L40)*SUM(M40:O40)*SUM(P40:R40)*SUM(S40:U40)/4 -> 0 | W40: =IFERROR(H40/V40,0) -> 0
H41: =F41*G41 -> 0 | V41: =SUM(J41:L41)*SUM(M41:O41)*SUM(P41:R41)*SUM(S41:U41)/4 -> 0 | W41: =IFERROR(H41/V41,0) -> 0
H42: =F42*G42 -> 0 | V42: =SUM(J42:L42)*SUM(M42:O42)*SUM(P42:R42)*SUM(S42:U42)/4 -> 0 | W42: =IFERROR(H42/V42,0) -> 0
H43: =F43*G43 -> 0 | V43: =SUM(J43:L43)*SUM(M43:O43)*SUM(P43:R43)*SUM(S43:U43)/4 -> 0 | W43: =IFERROR(H43/V43,0) -> 0
H44: =F44*G44 -> 0 | V44: =SUM(J44:L44)*SUM(M44:O44)*SUM(P44:R44)*SUM(S44:U44)/4 -> 0 | W44: =IFERROR(H44/V44,0) -> 0
H45: =F45*G45 -> 0 | V45: =SUM(J45:L45)*SUM(M45:O45)*SUM(P45:R45)*SUM(S45:U45)/4 -> 0 | W45: =IFERROR(H45/V45,0) -> 0
H46: =F46*G46 -> 0 | V46: =SUM(J46:L46)*SUM(M46:O46)*SUM(P46:R46)*SUM(S46:U46)/4 -> 0 | W46: =IFERROR(H46/V46,0) -> 0
H47: =F47*G47 -> 0 | V47: =SUM(J47:L47)*SUM(M47:O47)*SUM(P47:R47)*SUM(S47:U47)/4 -> 0 | W47: =IFERROR(H47/V47,0) -> 0
H48: =F48*G48 -> 0 | V48: =SUM(J48:L48)*SUM(M48:O48)*SUM(P48:R48)*SUM(S48:U48)/4 -> 0 | W48: =IFERROR(H48/V48,0) -> 0
H49: =F49*G49 -> 0 | V49: =SUM(J49:L49)*SUM(M49:O49)*SUM(P49:R49)*SUM(S49:U49)/4 -> 0 | W49: =IFERROR(H49/V49,0) -> 0
H50: =F50*G50 -> 0 | V50: =SUM(J50:L50)*SUM(M50:O50)*SUM(P50:R50)*SUM(S50:U50)/4 -> 0 | W50: =IFERROR(H50/V50,0) -> 0
...

Sheet UT1
H1: 1 à <5 = Vert, Niveau de risque faible | L1: 5 à <9 = Jaune, Niveau de risque moyen
H3: 9 à <13 = Orangé, Niveau de risque important | L3: > ou =13 = Niveau de risque élevé
A4: UNITÉ DE TRAVAIL | B4: Situation de travail | C4: Source de Danger | D4: Situation à risque ou risque associé | E4: Conséquences | F4: Fréqu. Exp | G4: Gravité | H4: Risque Brut | I4: Actions de prévention existantes | J4: Formation | M4: Mode opératoire | P4: Équipements de travail (Outils) | S4: Équipements de protection (EPI/EPC) | V4: Maitrise du risque | W4: Risque résiduel | X4: Actions de prévention à mettre en place (Obligatoire si risque rédiduel est = ou > à 13) | Y4: Échéance | Z4: Pilote | AA4: Statut action | AB4: Date de clôture | AC4: Inscription PAPRIPACT | AD4: Efficacité vérifiée | AE4: Date vérification | AF4: Commentaire / preuve
J5: TOTAL (3) | K5: PARTIEL (2) | L5: ABSENT (1) | M5: TOTAL (3) | N5: PARTIEL (2) | O5: ABSENT (1) | P5: TOTAL (3) | Q5: PARTIEL (2) | R5: ABSENT (1) | S5: TOTAL (3) | T5: PARTIEL (2) | U5: ABSENT (1)
H6: =F6*G6 -> 0 | V6: =SUM(J6:L6)*SUM(M6:O6)*SUM(P6:R6)*SUM(S6:U6)/4 -> 0 | W6: =IFERROR(H6/V6,0) -> 0
H7: =F7*G7 -> 0 | V7: =SUM(J7:L7)*SUM(M7:O7)*SUM(P7:R7)*SUM(S7:U7)/4 -> 0 | W7: =IFERROR(H7/V7,0) -> 0
H8: =F8*G8 -> 0 | V8: =SUM(J8:L8)*SUM(M8:O8)*SUM(P8:R8)*SUM(S8:U8)/4 -> 0 | W8: =IFERROR(H8/V8,0) -> 0
H9: =F9*G9 -> 0 | V9: =SUM(J9:L9)*SUM(M9:O9)*SUM(P9:R9)*SUM(S9:U9)/4 -> 0 | W9: =IFERROR(H9/V9,0) -> 0
H10: =F10*G10 -> 0 | V10: =SUM(J10:L10)*SUM(M10:O10)*SUM(P10:R10)*SUM(S10:U10)/4 -> 0 | W10: =IFERROR(H10/V10,0) -> 0
H11: =F11*G11 -> 0 | V11: =SUM(J11:L11)*SUM(M11:O11)*SUM(P11:R11)*SUM(S11:U11)/4 -> 0 | W11: =IFERROR(H11/V11,0) -> 0
H12: =F12*G12 -> 0 | V12: =SUM(J12:L12)*SUM(M12:O12)*SUM(P12:R12)*SUM(S12:U12)/4 -> 0 | W12: =IFERROR(H12/V12,0) -> 0
H13: =F13*G13 -> 0 | V13: =SUM(J13:L13)*SUM(M13:O13)*SUM(P13:R13)*SUM(S13:U13)/4 -> 0 | W13: =IFERROR(H13/V13,0) -> 0
H14: =F14*G14 -> 0 | V14: =SUM(J14:L14)*SUM(M14:O14)*SUM(P14:R14)*SUM(S14:U14)/4 -> 0 | W14: =IFERROR(H14/V14,0) -> 0
H15: =F15*G15 -> 0 | V15: =SUM(J15:L15)*SUM(M15:O15)*SUM(P15:R15)*SUM(S15:U15)/4 -> 0 | W15: =IFERROR(H15/V15,0) -> 0
H16: =F16*G16 -> 0 | V16: =SUM(J16:L16)*SUM(M16:O16)*SUM(P16:R16)*SUM(S16:U16)/4 -> 0 | W16: =IFERROR(H16/V16,0) -> 0
H17: =F17*G17 -> 0 | V17: =SUM(J17:L17)*SUM(M17:O17)*SUM(P17:R17)*SUM(S17:U17)/4 -> 0 | W17: =IFERROR(H17/V17,0) -> 0
... H27: =F27*G27 -> 0 | V27: =SUM(J27:L27)*SUM(M27:O27)*SUM(P27:R27)*SUM(S27:U27)/4 -> 0 | W27: =IFERROR(H27/V27,0) -> 0
B28: Organisation du travail | C28: Surcharge de travail | D28: Gestion des compagnons | E28: Stress Burn-out | F28: 5 | G28: 3 | H28: =F28*G28 -> 15 | V28: =SUM(J28:L28)*SUM(M28:O28)*SUM(P28:R28)*SUM(S28:U28)/4 -> 0 | W28: =IFERROR(H28/V28,0) -> 0
A29: Manœuvre | B29: Heurts membres supérieurs /inférieurs | C29: Installation de fiches/piquets | D29: Utilisation d'une masse | E29: Heurts membres supérieurs/inférieurs | F29: 4 | G29: 2 | H29: =F29*G29 -> 8 | V29: =SUM(J29:L29)*SUM(M29:O29)*SUM(P29:R29)*SUM(S29:U29)/4 -> 0 | W29: =IFERROR(H29/V29,0) -> 0
C30: Réglage au sol | D30: Réglage manuel | E30: Atteinte musculaire et articulaire (lombalgie, TMS…) Posture prolongée | F30: 4 | G30: 2 | H30: =F30*G30 -> 8 | V30: =SUM(J30:L30)*SUM(M30:O30)*SUM(P30:R30)*SUM(S30:U30)/4 -> 0 | W30: =IFERROR(H30/V30,0) -> 0
C31: Montée/descente des fourgons | D31: Précpitation/Inattention | E31: Heurts membres supérieurs/inférieurs | F31: 5 | G31: 2 | H31: =F31*G31 -> 10 | V31: =SUM(J31:L31)*SUM(M31:O31)*SUM(P31:R31)*SUM(S31:U31)/4 -> 0 | W31: =IFERROR(H31/V31,0) -> 0
B32: Travaux en toutes positions | C32: Gestes répétitifs Postures inadaptées | D32: Mauvaise ergonomie au poste de travail | E32: Atteinte musculaire et articulaire (lombalgie, TMS…) | F32: 5 | G32: 2 | H32: =F32*G32 -> 10 | V32: =SUM(J32:L32)*SUM(M32:O32)*SUM(P32:R32)*SUM(S32:U32)/4 -> 0 | W32: =IFERROR(H32/V32,0) -> 0
A33: Conducteur d'engin | B33: Heurts membres supérieurs/inférieurs | C33: Accès à la cabine | D33: Chute de hauteur | E33: Heurt et blessures | F33: 5 | G33: 2 | H33: =F33*G33 -> 10 | V33: =SUM(J33:L33)*SUM(M33:O33)*SUM(P33:R33)*SUM(S33:U33)/4 -> 0 | W33: =IFERROR(H33/V33,0) -> 0
C34: Intervention sur l'engin | D34: Maintenance de l'engin lors dysfonctionnement | F34: 4 | G34: 2 | H34: =F34*G34 -> 8 | V34: =SUM(J34:L34)*SUM(M34:O34)*SUM(P34:R34)*SUM(S34:U34)/4 -> 0 | W34: =IFERROR(H34/V34,0) -> 0
B35: Heurt entre engins | C35: Plusieurs engins sur le chantier | D35: Collision | E35: Heurt et blessures | F35: 5 | G35: 2 | H35: =F35*G35 -> 10 | V35: =SUM(J35:L35)*SUM(M35:O35)*SUM(P35:R35)*SUM(S35:U35)/4 -> 0 | W35: =IFERROR(H35/V35,0) -> 0
B36: Travaux en toutes positions | C36: Gestes répétitifs Postures inadaptées | D36: Mauvaise ergonomie au poste de travail | E36: Atteinte musculaire et articulaire (lombalgie, TMS…) | F36: 5 | G36: 2 | H36: =F36*G36 -> 10 | V36: =SUM(J36:L36)*SUM(M36:O36)*SUM(P36:R36)*SUM(S36:U36)/4 -> 0 | W36: =IFERROR(H36/V36,0) -> 0
B37: Enfouissement | C37: Travail sur des monticules de terre | D37: Sous-cavement | E37: Enfouissement Etouffement | F37: 3 | G37: 3 | H37: =F37*G37 -> 9 | V37: =SUM(J37:L37)*SUM(M37:O37)*SUM(P37:R37)*SUM(S37:U37)/4 -> 0 | W37: =IFERROR(H37/V37,0) -> 0
B38: Basculement | C38: Travaux dans un environnement où le risque de basculement de l'engin est important | D38: Mauvaise appréciation du conducteur Renversement de l'engin | E38: Heurt et blessures | F38: 3 | G38: 2 | H38: =F38*G38 -> 6 | V38: =SUM(J38:L38)*SUM(M38:O38)*SUM(P38:R38)*SUM(S38:U38)/4 -> 0 | W38: =IFERROR(H38/V38,0) -> 0
B39: Risque chimique | C39: Contact avec produits dangereux | D39: Risque de projection d'huile/graisse | E39: Brûlures | F39: 4 | G39: 2 | H39: =F39*G39 -> 8 | V39: =SUM(J39:L39)*SUM(M39:O39)*SUM(P39:R39)*SUM(S39:U39)/4 -> 0 | W39: =IFERROR(H39/V39,0) -> 0
H40: =F40*G40 -> 0 | V40: =SUM(J40:L40)*SUM(M40:O40)*SUM(P40:R40)*SUM(S40:U40)/4 -> 0 | W40: =IFERROR(H40/V40,0) -> 0
H41: =F41*G41 -> 0 | V41: =SUM(J41:L41)*SUM(M41:O41)*SUM(P41:R41)*SUM(S41:U41)/4 -> 0 | W41: =IFERROR(H41/V41,0) -> 0
H42: =F42*G42 -> 0 | V42: =SUM(J42:L42)*SUM(M42:O42)*SUM(P42:R42)*SUM(S42:U42)/4 -> 0 | W42: =IFERROR(H42/V42,0) -> 0
H43: =F43*G43 -> 0 | V43: =SUM(J43:L43)*SUM(M43:O43)*SUM(P43:R43)*SUM(S43:U43)/4 -> 0 | W43: =IFERROR(H43/V43,0) -> 0
H44: =F44*G44 -> 0 | V44: =SUM(J44:L44)*SUM(M44:O44)*SUM(P44:R44)*SUM(S44:U44)/4 -> 0 | W44: =IFERROR(H44/V44,0) -> 0
H45: =F45*G45 -> 0 | V45: =SUM(J45:L45)*SUM(M45:O45)*SUM(P45:R45)*SUM(S45:U45)/4 -> 0 | W45: =IFERROR(H45/V45,0) -> 0
H46: =F46*G46 -> 0 | V46: =SUM(J46:L46)*SUM(M46:O46)*SUM(P46:R46)*SUM(S46:U46)/4 -> 0 | W46: =IFERROR(H46/V46,0) -> 0
H47: =F47*G47 -> 0 | V47: =SUM(J47:L47)*SUM(M47:O47)*SUM(P47:R47)*SUM(S47:U47)/4 -> 0 | W47: =IFERROR(H47/V47,0) -> 0
H48: =F48*G48 -> 0 | V48: =SUM(J48:L48)*SUM(M48:O48)*SUM(P48:R48)*SUM(S48:U48)/4 -> 0 | W48: =IFERROR(H48/V48,0) -> 0
H49: =F49*G49 -> 0 | V49: =SUM(J49:L49)*SUM(M49:O49)*SUM(P49:R49)*SUM(S49:U49)/4 -> 0 | W49: =IFERROR(H49/V49,0) -> 0
H50: =F50*G50 -> 0 | V50: =SUM(J50:L50)*SUM(M50:O50)*SUM(P50:R50)*SUM(S50:U50)/4 -> 0 | W50: =IFERROR(H50/V50,0) -> 0
...

Sheet UT2
H1: 1 à <5 = Vert, Niveau de risque faible | L1: 5 à <9 = Jaune, Niveau de risque moyen
H3: 9 à <13 = Orangé, Niveau de risque important | L3: > ou =13 = Niveau de risque élevé
A4: UNITÉ DE TRAVAIL | B4: Situation de travail | C4: Source de Danger | D4: Situation à risque ou risque associé | E4: Conséquences | F4: Fréqu. Exp | G4: Gravité | H4: Risque Brut | I4: Actions de prévention existantes | J4: Formation | M4: Mode opératoire | P4: Équipements de travail (Outils) | S4: Équipements de protection (EPI/EPC) | V4: Maitrise du risque | W4: Risque résiduel | X4: Actions de prévention à mettre en place (Obligatoire si risque rédiduel est = ou > à 13) | Y4: Échéance | Z4: Pilote | AA4: Statut action | AB4: Date de clôture | AC4: Inscription PAPRIPACT | AD4: Efficacité vérifiée | AE4: Date vérification | AF4: Commentaire / preuve
J5: TOTAL (3) | K5: PARTIEL (2) | L5: ABSENT (1) | M5: TOTAL (3) | N5: PARTIEL (2) | O5: ABSENT (1) | P5: TOTAL (3) | Q5: PARTIEL (2) | R5: ABSENT (1) | S5: TOTAL (3) | T5: PARTIEL (2) | U5: ABSENT (1)
H6: =F6*G6 -> 0 | V6: =SUM(J6:L6)*SUM(M6:O6)*SUM(P6:R6)*SUM(S6:U6)/4 -> 0 | W6: =IFERROR(H6/V6,0) -> 0
H7: =F7*G7 -> 0 | V7: =SUM(J7:L7)*SUM(M7:O7)*SUM(P7:R7)*SUM(S7:U7)/4 -> 0 | W7: =IFERROR(H7/V7,0) -> 0
H8: =F8*G8 -> 0 | V8: =SUM(J8:L8)*SUM(M8:O8)*SUM(P8:R8)*SUM(S8:U8)/4 -> 0 | W8: =IFERROR(H8/V8,0) -> 0
H9: =F9*G9 -> 0 | V9: =SUM(J9:L9)*SUM(M9:O9)*SUM(P9:R9)*SUM(S9:U9)/4 -> 0 | W9: =IFERROR(H9/V9,0) -> 0
H10: =F10*G10 -> 0 | V10: =SUM(J10:L10)*SUM(M10:O10)*SUM(P10:R10)*SUM(S10:U10)/4 -> 0 | W10: =IFERROR(H10/V10,0) -> 0
H11: =F11*G11 -> 0 | V11: =SUM(J11:L11)*SUM(M11:O11)*SUM(P11:R11)*SUM(S11:U11)/4 -> 0 | W11: =IFERROR(H11/V11,0) -> 0
H12: =F12*G12 -> 0 | V12: =SUM(J12:L12)*SUM(M12:O12)*SUM(P12:R12)*SUM(S12:U12)/4 -> 0 | W12: =IFERROR(H12/V12,0) -> 0
H13: =F13*G13 -> 0 | V13: =SUM(J13:L13)*SUM(M13:O13)*SUM(P13:R13)*SUM(S13:U13)/4 -> 0 | W13: =IFERROR(H13/V13,0) -> 0
H14: =F14*G14 -> 0 | V14: =SUM(J14:L14)*SUM(M14:O14)*SUM(P14:R14)*SUM(S14:U14)/4 -> 0 | W14: =IFERROR(H14/V14,0) -> 0
H15: =F15*G15 -> 0 | V15: =SUM(J15:L15)*SUM(M15:O15)*SUM(P15:R15)*SUM(S15:U15)/4 -> 0 | W15: =IFERROR(H15/V15,0) -> 0
H16: =F16*G16 -> 0 | V16: =SUM(J16:L16)*SUM(M16:O16)*SUM(P16:R16)*SUM(S16:U16)/4 -> 0 | W16: =IFERROR(H16/V16,0) -> 0
H17: =F17*G17 -> 0 | V17: =SUM(J17:L17)*SUM(M17:O17)*SUM(P17:R17)*SUM(S17:U17)/4 -> 0 | W17: =IFERROR(H17/V17,0) -> 0
... H27: =F27*G27 -> 0 | V27: =SUM(J27:L27)*SUM(M27:O27)*SUM(P27:R27)*SUM(S27:U27)/4 -> 0 | W27: =IFERROR(H27/V27,0) -> 0
B28: Organisation du travail | C28: Surcharge de travail | D28: Gestion des compagnons | E28: Stress Burn-out | F28: 5 | G28: 3 | H28: =F28*G28 -> 15 | V28: =SUM(J28:L28)*SUM(M28:O28)*SUM(P28:R28)*SUM(S28:U28)/4 -> 0 | W28: =IFERROR(H28/V28,0) -> 0
A29: Manœuvre | B29: Heurts membres supérieurs /inférieurs | C29: Installation de fiches/piquets | D29: Utilisation d'une masse | E29: Heurts membres supérieurs/inférieurs | F29: 4 | G29: 2 | H29: =F29*G29 -> 8 | V29: =SUM(J29:L29)*SUM(M29:O29)*SUM(P29:R29)*SUM(S29:U29)/4 -> 0 | W29: =IFERROR(H29/V29,0) -> 0
C30: Réglage au sol | D30: Réglage manuel | E30: Atteinte musculaire et articulaire (lombalgie, TMS…) Posture prolongée | F30: 4 | G30: 2 | H30: =F30*G30 -> 8 | V30: =SUM(J30:L30)*SUM(M30:O30)*SUM(P30:R30)*SUM(S30:U30)/4 -> 0 | W30: =IFERROR(H30/V30,0) -> 0
C31: Montée/descente des fourgons | D31: Précpitation/Inattention | E31: Heurts membres supérieurs/inférieurs | F31: 5 | G31: 2 | H31: =F31*G31 -> 10 | V31: =SUM(J31:L31)*SUM(M31:O31)*SUM(P31:R31)*SUM(S31:U31)/4 -> 0 | W31: =IFERROR(H31/V31,0) -> 0
B32: Travaux en toutes positions | C32: Gestes répétitifs Postures inadaptées | D32: Mauvaise ergonomie au poste de travail | E32: Atteinte musculaire et articulaire (lombalgie, TMS…) | F32: 5 | G32: 2 | H32: =F32*G32 -> 10 | V32: =SUM(J32:L32)*SUM(M32:O32)*SUM(P32:R32)*SUM(S32:U32)/4 -> 0 | W32: =IFERROR(H32/V32,0) -> 0
A33: Conducteur d'engin | B33: Heurts membres supérieurs/inférieurs | C33: Accès à la cabine | D33: Chute de hauteur | E33: Heurt et blessures | F33: 5 | G33: 2 | H33: =F33*G33 -> 10 | V33: =SUM(J33:L33)*SUM(M33:O33)*SUM(P33:R33)*SUM(S33:U33)/4 -> 0 | W33: =IFERROR(H33/V33,0) -> 0
C34: Intervention sur l'engin | D34: Maintenance de l'engin lors dysfonctionnement | F34: 4 | G34: 2 | H34: =F34*G34 -> 8 | V34: =SUM(J34:L34)*SUM(M34:O34)*SUM(P34:R34)*SUM(S34:U34)/4 -> 0 | W34: =IFERROR(H34/V34,0) -> 0
B35: Heurt entre engins | C35: Plusieurs engins sur le chantier | D35: Collision | E35: Heurt et blessures | F35: 5 | G35: 2 | H35: =F35*G35 -> 10 | V35: =SUM(J35:L35)*SUM(M35:O35)*SUM(P35:R35)*SUM(S35:U35)/4 -> 0 | W35: =IFERROR(H35/V35,0) -> 0
B36: Travaux en toutes positions | C36: Gestes répétitifs Postures inadaptées | D36: Mauvaise ergonomie au poste de travail | E36: Atteinte musculaire et articulaire (lombalgie, TMS…) | F36: 5 | G36: 2 | H36: =F36*G36 -> 10 | V36: =SUM(J36:L36)*SUM(M36:O36)*SUM(P36:R36)*SUM(S36:U36)/4 -> 0 | W36: =IFERROR(H36/V36,0) -> 0
B37: Enfouissement | C37: Travail sur des monticules de terre | D37: Sous-cavement | E37: Enfouissement Etouffement | F37: 3 | G37: 3 | H37: =F37*G37 -> 9 | V37: =SUM(J37:L37)*SUM(M37:O37)*SUM(P37:R37)*SUM(S37:U37)/4 -> 0 | W37: =IFERROR(H37/V37,0) -> 0
B38: Basculement | C38: Travaux dans un environnement où le risque de basculement de l'engin est important | D38: Mauvaise appréciation du conducteur Renversement de l'engin | E38: Heurt et blessures | F38: 3 | G38: 2 | H38: =F38*G38 -> 6 | V38: =SUM(J38:L38)*SUM(M38:O38)*SUM(P38:R38)*SUM(S38:U38)/4 -> 0 | W38: =IFERROR(H38/V38,0) -> 0
B39: Risque chimique | C39: Contact avec produits dangereux | D39: Risque de projection d'huile/graisse | E39: Brûlures | F39: 4 | G39: 2 | H39: =F39*G39 -> 8 | V39: =SUM(J39:L39)*SUM(M39:O39)*SUM(P39:R39)*SUM(S39:U39)/4 -> 0 | W39: =IFERROR(H39/V39,0) -> 0
H40: =F40*G40 -> 0 | V40: =SUM(J40:L40)*SUM(M40:O40)*SUM(P40:R40)*SUM(S40:U40)/4 -> 0 | W40: =IFERROR(H40/V40,0) -> 0
H41: =F41*G41 -> 0 | V41: =SUM(J41:L41)*SUM(M41:O41)*SUM(P41:R41)*SUM(S41:U41)/4 -> 0 | W41: =IFERROR(H41/V41,0) -> 0
H42: =F42*G42 -> 0 | V42: =SUM(J42:L42)*SUM(M42:O42)*SUM(P42:R42)*SUM(S42:U42)/4 -> 0 | W42: =IFERROR(H42/V42,0) -> 0
H43: =F43*G43 -> 0 | V43: =SUM(J43:L43)*SUM(M43:O43)*SUM(P43:R43)*SUM(S43:U43)/4 -> 0 | W43: =IFERROR(H43/V43,0) -> 0
H44: =F44*G44 -> 0 | V44: =SUM(J44:L44)*SUM(M44:O44)*SUM(P44:R44)*SUM(S44:U44)/4 -> 0 | W44: =IFERROR(H44/V44,0) -> 0
H45: =F45*G45 -> 0 | V45: =SUM(J45:L45)*SUM(M45:O45)*SUM(P45:R45)*SUM(S45:U45)/4 -> 0 | W45: =IFERROR(H45/V45,0) -> 0
H46: =F46*G46 -> 0 | V46: =SUM(J46:L46)*SUM(M46:O46)*SUM(P46:R46)*SUM(S46:U46)/4 -> 0 | W46: =IFERROR(H46/V46,0) -> 0
H47: =F47*G47 -> 0 | V47: =SUM(J47:L47)*SUM(M47:O47)*SUM(P47:R47)*SUM(S47:U47)/4 -> 0 | W47: =IFERROR(H47/V47,0) -> 0
H48: =F48*G48 -> 0 | V48: =SUM(J48:L48)*SUM(M48:O48)*SUM(P48:R48)*SUM(S48:U48)/4 -> 0 | W48: =IFERROR(H48/V48,0) -> 0
H49: =F49*G49 -> 0 | V49: =SUM(J49:L49)*SUM(M49:O49)*SUM(P49:R49)*SUM(S49:U49)/4 -> 0 | W49: =IFERROR(H49/V49,0) -> 0
H50: =F50*G50 -> 0 | V50: =SUM(J50:L50)*SUM(M50:O50)*SUM(P50:R50)*SUM(S50:U50)/4 -> 0 | W50: =IFERROR(H50/V50,0) -> 0
...

Sheet Pénibilité
A1: FACTEURS DE RISQUES PROFESSIONNELS / C2P – mise à jour 2026
A2: Références : Code du travail L.4161-1 et D.4163-2. Les 10 facteurs doivent être pris en compte dans la prévention ; 6 facteurs seulement ouvrent actuellement droit au Compte professionnel de prévention (C2P) lorsqu'ils dépassent les seuils réglementaires.
A4: A. Les 10 facteurs de risques professionnels à prendre en compte dans la prévention
A5: Catégorie | E5: Exposition dans l'entreprise | F5: Mesures / observations
A6: Contraintes physiques marquées | B6: Manutentions manuelles de charges | C6: Non | D6: Pas de seuil C2P
A7: Contraintes physiques marquées | B7: Postures pénibles / positions forcées
B8: Vibrations mécaniques | C8: Non | D8: Pas de seuil C2P
A10: Environnement physique agressif | B10: Activités en milieu hyperbare | C10: Oui | D10: ≥ 1 200 hPa ; 60 interventions ou travaux/an
B11: Températures extrêmes | C11: Oui
B12: Bruit | C12: Oui
B13: Travail de nuit | C13: Oui | D13: ≥ 1 h entre 00:00 et 05:00 ; 100 nuits/an
A15: Rythmes de travail | B15: Travail répétitif | D15: Cycle ≤ 30 s : ≥ 15 actions techniques ; sinon ≥ 30 actions/min ; 900 h/an
A18: Unité / poste | B18: Facteur | C18: Population exposée | D18: Niveau / durée estimée | E18: Conclusion | F18: Action de prévention / preuve
A37: Point de vigilance : les seuils C2P ne remplacent pas l'obligation générale de prévention. Une exposition sous les seuils C2P peut néanmoins nécessiter des actions de prévention dans le DUERP.

Sheet PAPRIPACT
A1: PAPRIPACT – PROGRAMME ANNUEL INTÉGRÉ AU DUERP
A2: Alimentation automatique depuis les unités de travail. Un risque entre si son risque résiduel atteint le seuil ou si l'inscription est forcée. Après réduction du risque, la ligne reste tracée et passe en état maîtrisé ; elle n'est pas supprimée automatiquement.
A3: Seuil d'entrée automatique | B3: 13 | D3: Année du programme | E3: 2026 | G3: Traçabilité : maintien des actions maîtrisées pour le bilan annuel et la présentation au CSE.
A5: ID source | B5: Source | C5: UT / secteur | D5: Situation de travail | E5: Danger | F5: Risque / enjeu | G5: Conséquences | H5: Risque brut | I5: Risque résiduel actuel | J5: Seuil | K5: Mode d'inscription | L5: État automatique PAPRIPACT | M5: Priorité | N5: Objectif de prévention | O5: Mesure détaillée à réaliser | P5: Type de mesure | Q5: Conditions d'exécution (réglementaire) | R5: Pilote | S5: Contributeurs | T5: Ressources mobilisables (réglementaire) | U5: Budget estimé € (réglementaire) | V5: Date début | W5: Échéance / calendrier (réglementaire) | X5: Indicateur de résultat (réglementaire) | Y5: Cible | Z5: Valeur obtenue | AA5: Avancement | AB5: Statut | AC5: Efficacité vérifiée | AD5: Date de vérification | AE5: Décision / observation CSE | AF5: Motif report / non-réalisation | AG5: Preuve / lien documentaire | AH5: Évolution du risque
A6: =IF(OR(IFERROR('0'!$W$6>=$B$3,FALSE),'0'!$AC$6="Forcée",'0'!$X$6<>"",'0'!$AA$6<>""),"0-6","") | B6: =IF(OR(IFERROR('0'!$W$6>=$B$3,FALSE),'0'!$AC$6="Forcée",'0'!$X$6<>"",'0'!$AA$6<>""),"0","") | C6: =IF(OR(IFERROR('0'!$W$6>=$B$3,FALSE),'0'!$AC$6="Forcée",'0'!$X$6<>"",'0'!$AA$6<>""),'0'!$A$6,"") | D6: =IF(OR(IFERROR('0'!$W$6>=$B$3,FALSE),'0'!$AC$6="Forcée",'0'!$X$6<>"",'0'!$AA$6<>""),'0'!$B$6,"") | E6: =IF(OR(IFERROR('0'!$W$6>=$B$3,FALSE),'0'!$AC$6="Forcée",'0'!$X$6<>"",'0'!$AA$6<>""),'0'!$C$6,"") | F6: =IF(OR(IFERROR('0'!$W$6>=$B$3,FALSE),'0'!$AC$6="Forcée",'0'!$X$6<>"",'0'!$AA$6<>""),'0'!$D$6,"") | G6: =IF(OR(IFERROR('0'!$W$6>=$B$3,FALSE),'0'!$AC$6="Forcée",'0'!$X$6<>"",'0'!$AA$6<>""),'0'!$E$6,"") | H6: =IF(OR(IFERROR('0'!$W$6>=$B$3,FALSE),'0'!$AC$6="Forcée",'0'!$X$6<>"",'0'!$AA$6<>""),'0'!$H$6,"") | I6: =IF(OR(IFERROR('0'!$W$6>=$B$3,FALSE),'0'!$AC$6="Forcée",'0'!$X$6<>"",'0'!$AA$6<>""),'0'!$W$6,"") | J6: =IF(A6="","",$B$3) | K6: =IF(A6="","",IF('0'!$AC$6="Forcée","Forcée",IF('0'!$AC$6="Exclue","Exclue","Automatique"))) | L6: =IF(A6="","",IF('0'!$AC$6="Exclue","Exclu",IF('0'!$W$6>=$B$3,"Actif - risque significatif",IF(AND('0'!$W$6<$B$3,'0'!$AD$6="Oui"),"Maîtrisé / clôturable","Maîtrisé - à vérifier")))) | M6: =IF(A6="","",IF('0'!$W$6>=16,"P1 - Critique",IF('0'!$W$6>=13,"P2 - Haute",IF('0'!$W$6>=9,"P3 - Moyenne","P4 - Basse")))) | O6: =IF(A6="","",'0'!$X$6) | R6: =IF(A6="","",'0'!$Z$6) | W6: =IF(A6="","",'0'!$Y$6) | AB6: =IF(A6="","",'0'!$AA$6) | AC6: =IF(A6="","",'0'!$AD$6) | AD6: =IF(A6="","",'0'!$AE$6) | AG6: =IF(A6="","",'0'!$AF$6) | AH6: =IF(A6="","",IFERROR((H6-I6)/H6,0))
A7: =IF(OR(IFERROR('0'!$W$7>=$B$3,FALSE),'0'!$AC$7="Forcée",'0'!$X$7<>"",'0'!$AA$7<>""),"0-7","") | B7: =IF(OR(IFERROR('0'!$W$7>=$B$3,FALSE),'0'!$AC$7="Forcée",'0'!$X$7<>"",'0'!$AA$7<>""),"0","") | C7: =IF(OR(IFERROR('0'!$W$7>=$B$3,FALSE),'0'!$AC$7="Forcée",'0'!$X$7<>"",'0'!$AA$7<>""),'0'!$A$7,"") | D7: =IF(OR(IFERROR('0'!$W$7>=$B$3,FALSE),'0'!$AC$7="Forcée",'0'!$X$7<>"",'0'!$AA$7<>""),'0'!$B$7,"") | E7: =IF(OR(IFERROR('0'!$W$7>=$B$3,FALSE),'0'!$AC$7="Forcée",'0'!$X$7<>"",'0'!$AA$7<>""),'0'!$C$7,"") | F7: =IF(OR(IFERROR('0'!$W$7>=$B$3,FALSE),'0'!$AC$7="Forcée",'0'!$X$7<>"",'0'!$AA$7<>""),'0'!$D$7,"") | G7: =IF(OR(IFERROR('0'!$W$7>=$B$3,FALSE),'0'!$AC$7="Forcée",'0'!$X$7<>"",'0'!$AA$7<>""),'0'!$E$7,"") | H7: =IF(OR(IFERROR('0'!$W$7>=$B$3,FALSE),'0'!$AC$7="Forcée",'0'!$X$7<>"",'0'!$AA$7<>""),'0'!$H$7,"") | I7: =IF(OR(IFERROR('0'!$W$7>=$B$3,FALSE),'0'!$AC$7="Forcée",'0'!$X$7<>"",'0'!$AA$7<>""),'0'!$W$7,"") | J7: =IF(A7="","",$B$3) | K7: =IF(A7="","",IF('0'!$AC$7="Forcée","Forcée",IF('0'!$AC$7="Exclue","Exclue","Automatique"))) | L7: =IF(A7="","",IF('0'!$AC$7="Exclue","Exclu",IF('0'!$W$7>=$B$3,"Actif - risque significatif",IF(AND('0'!$W$7<$B$3,'0'!$AD$7="Oui"),"Maîtrisé / clôturable","Maîtrisé - à vérifier")))) | M7: =IF(A7="","",IF('0'!$W$7>=16,"P1 - Critique",IF('0'!$W$7>=13,"P2 - Haute",IF('0'!$W$7>=9,"P3 - Moyenne","P4 - Basse")))) | O7: =IF(A7="","",'0'!$X$7) | R7: =IF(A7="","",'0'!$Z$7) | W7: =IF(A7="","",'0'!$Y$7) | AB7: =IF(A7="","",'0'!$AA$7) | AC7: =IF(A7="","",'0'!$AD$7) | AD7: =IF(A7="","",'0'!$AE$7) | AG7: =IF(A7="","",'0'!$AF$7) | AH7: =IF(A7="","",IFERROR((H7-I7)/H7,0))
A8: =IF(OR(IFERROR('0'!$W$8>=$B$3,FALSE),'0'!$AC$8="Forcée",'0'!$X$8<>"",'0'!$AA$8<>""),"0-8","") | B8: =IF(OR(IFERROR('0'!$W$8>=$B$3,FALSE),'0'!$AC$8="Forcée",'0'!$X$8<>"",'0'!$AA$8<>""),"0","") | C8: =IF(OR(IFERROR('0'!$W$8>=$B$3,FALSE),'0'!$AC$8="Forcée",'0'!$X$8<>"",'0'!$AA$8<>""),'0'!$A$8,"") | D8: =IF(OR(IFERROR('0'!$W$8>=$B$3,FALSE),'0'!$AC$8="Forcée",'0'!$X$8<>"",'0'!$AA$8<>""),'0'!$B$8,"") | E8: =IF(OR(IFERROR('0'!$W$8>=$B$3,FALSE),'0'!$AC$8="Forcée",'0'!$X$8<>"",'0'!$AA$8<>""),'0'!$C$8,"") | F8: =IF(OR(IFERROR('0'!$W$8>=$B$3,FALSE),'0'!$AC$8="Forcée",'0'!$X$8<>"",'0'!$AA$8<>""),'0'!$D$8,"") | G8: =IF(OR(IFERROR('0'!$W$8>=$B$3,FALSE),'0'!$AC$8="Forcée",'0'!$X$8<>"",'0'!$AA$8<>""),'0'!$E$8,"") | H8: =IF(OR(IFERROR('0'!$W$8>=$B$3,FALSE),'0'!$AC$8="Forcée",'0'!$X$8<>"",'0'!$AA$8<>""),'0'!$H$8,"") | I8: =IF(OR(IFERROR('0'!$W$8>=$B$3,FALSE),'0'!$AC$8="Forcée",'0'!$X$8<>"",'0'!$AA$8<>""),'0'!$W$8,"") | J8: =IF(A8="","",$B$3) | K8: =IF(A8="","",IF('0'!$AC$8="Forcée","Forcée",IF('0'!$AC$8="Exclue","Exclue","Automatique"))) | L8: =IF(A8="","",IF('0'!$AC$8="Exclue","Exclu",IF('0'!$W$8>=$B$3,"Actif - risque significatif",IF(AND('0'!$W$8<$B$3,'0'!$AD$8="Oui"),"Maîtrisé / clôturable","Maîtrisé - à vérifier")))) | M8: =IF(A8="","",IF('0'!$W$8>=16,"P1 - Critique",IF('0'!$W$8>=13,"P2 - Haute",IF('0'!$W$8>=9,"P3 - Moyenne","P4 - Basse")))) | O8: =IF(A8="","",'0'!$X$8) | R8: =IF(A8="","",'0'!$Z$8) | W8: =IF(A8="","",'0'!$Y$8) | AB8: =IF(A8="","",'0'!$AA$8) | AC8: =IF(A8="","",'0'!$AD$8) | AD8: =IF(A8="","",'0'!$AE$8) | AG8: =IF(A8="","",'0'!$AF$8) | AH8: =IF(A8="","",IFERROR((H8-I8)/H8,0))
A9: =IF(OR(IFERROR('0'!$W$9>=$B$3,FALSE),'0'!$AC$9="Forcée",'0'!$X$9<>"",'0'!$AA$9<>""),"0-9","") | B9: =IF(OR(IFERROR('0'!$W$9>=$B$3,FALSE),'0'!$AC$9="Forcée",'0'!$X$9<>"",'0'!$AA$9<>""),"0","") | C9: =IF(OR(IFERROR('0'!$W$9>=$B$3,FALSE),'0'!$AC$9="Forcée",'0'!$X$9<>"",'0'!$AA$9<>""),'0'!$A$9,"") | D9: =IF(OR(IFERROR('0'!$W$9>=$B$3,FALSE),'0'!$AC$9="Forcée",'0'!$X$9<>"",'0'!$AA$9<>""),'0'!$B$9,"") | E9: =IF(OR(IFERROR('0'!$W$9>=$B$3,FALSE),'0'!$AC$9="Forcée",'0'!$X$9<>"",'0'!$AA$9<>""),'0'!$C$9,"") | F9: =IF(OR(IFERROR('0'!$W$9>=$B$3,FALSE),'0'!$AC$9="Forcée",'0'!$X$9<>"",'0'!$AA$9<>""),'0'!$D$9,"") | G9: =IF(OR(IFERROR('0'!$W$9>=$B$3,FALSE),'0'!$AC$9="Forcée",'0'!$X$9<>"",'0'!$AA$9<>""),'0'!$E$9,"") | H9: =IF(OR(IFERROR('0'!$W$9>=$B$3,FALSE),'0'!$AC$9="Forcée",'0'!$X$9<>"",'0'!$AA$9<>""),'0'!$H$9,"") | I9: =IF(OR(IFERROR('0'!$W$9>=$B$3,FALSE),'0'!$AC$9="Forcée",'0'!$X$9<>"",'0'!$AA$9<>""),'0'!$W$9,"") | J9: =IF(A9="","",$B$3) | K9: =IF(A9="","",IF('0'!$AC$9="Forcée","Forcée",IF('0'!$AC$9="Exclue","Exclue","Automatique"))) | L9: =IF(A9="","",IF('0'!$AC$9="Exclue","Exclu",IF('0'!$W$9>=$B$3,"Actif - risque significatif",IF(AND('0'!$W$9<$B$3,'0'!$AD$9="Oui"),"Maîtrisé / clôturable","Maîtrisé - à vérifier")))) | M9: =IF(A9="","",IF('0'!$W$9>=16,"P1 - Critique",IF('0'!$W$9>=13,"P2 - Haute",IF('0'!$W$9>=9,"P3 - Moyenne","P4 - Basse")))) | O9: =IF(A9="","",'0'!$X$9) | R9: =IF(A9="","",'0'!$Z$9) | W9: =IF(A9="","",'0'!$Y$9) | AB9: =IF(A9="","",'0'!$AA$9) | AC9: =IF(A9="","",'0'!$AD$9) | AD9: =IF(A9="","",'0'!$AE$9) | AG9: =IF(A9="","",'0'!$AF$9) | AH9: =IF(A9="","",IFERROR((H9-I9)/H9,0))
A10: =IF(OR(IFERROR('0'!$W$10>=$B$3,FALSE),'0'!$AC$10="Forcée",'0'!$X$10<>"",'0'!$AA$10<>""),"0-10","") | B10: =IF(OR(IFERROR('0'!$W$10>=$B$3,FALSE),'0'!$AC$10="Forcée",'0'!$X$10<>"",'0'!$AA$10<>""),"0","") | C10: =IF(OR(IFERROR('0'!$W$10>=$B$3,FALSE),'0'!$AC$10="Forcée",'0'!$X$10<>"",'0'!$AA$10<>""),'0'!$A$10,"") | D10: =IF(OR(IFERROR('0'!$W$10>=$B$3,FALSE),'0'!$AC$10="Forcée",'0'!$X$10<>"",'0'!$AA$10<>""),'0'!$B$10,"") | E10: =IF(OR(IFERROR('0'!$W$10>=$B$3,FALSE),'0'!$AC$10="Forcée",'0'!$X$10<>"",'0'!$AA$10<>""),'0'!$C$10,"") | F10: =IF(OR(IFERROR('0'!$W$10>=$B$3,FALSE),'0'!$AC$10="Forcée",'0'!$X$10<>"",'0'!$AA$10<>""),'0'!$D$10,"") | G10: =IF(OR(IFERROR('0'!$W$10>=$B$3,FALSE),'0'!$AC$10="Forcée",'0'!$X$10<>"",'0'!$AA$10<>""),'0'!$E$10,"") | H10: =IF(OR(IFERROR('0'!$W$10>=$B$3,FALSE),'0'!$AC$10="Forcée",'0'!$X$10<>"",'0'!$AA$10<>""),'0'!$H$10,"") | I10: =IF(OR(IFERROR('0'!$W$10>=$B$3,FALSE),'0'!$AC$10="Forcée",'0'!$X$10<>"",'0'!$AA$10<>""),'0'!$W$10,"") | J10: =IF(A10="","",$B$3) | K10: =IF(A10="","",IF('0'!$AC$10="Forcée","Forcée",IF('0'!$AC$10="Exclue","Exclue","Automatique"))) | L10: =IF(A10="","",IF('0'!$AC$10="Exclue","Exclu",IF('0'!$W$10>=$B$3,"Actif - risque significatif",IF(AND('0'!$W$10<$B$3,'0'!$AD$10="Oui"),"Maîtrisé / clôturable","Maîtrisé - à vérifier")))) | M10: =IF(A10="","",IF('0'!$W$10>=16,"P1 - Critique",IF('0'!$W$10>=13,"P2 - Haute",IF('0'!$W$10>=9,"P3 - Moyenne","P4 - Basse")))) | O10: =IF(A10="","",'0'!$X$10) | R10: =IF(A10="","",'0'!$Z$10) | W10: =IF(A10="","",'0'!$Y$10) | AB10: =IF(A10="","",'0'!$AA$10) | AC10: =IF(A10="","",'0'!$AD$10) | AD10: =IF(A10="","",'0'!$AE$10) | AG10: =IF(A10="","",'0'!$AF$10) | AH10: =IF(A10="","",IFERROR((H10-I10)/H10,0))
A11: =IF(OR(IFERROR('0'!$W$11>=$B$3,FALSE),'0'!$AC$11="Forcée",'0'!$X$11<>"",'0'!$AA$11<>""),"0-11","") | B11: =IF(OR(IFERROR('0'!$W$11>=$B$3,FALSE),'0'!$AC$11="Forcée",'0'!$X$11<>"",'0'!$AA$11<>""),"0","") | C11: =IF(OR(IFERROR('0'!$W$11>=$B$3,FALSE),'0'!$AC$11="Forcée",'0'!$X$11<>"",'0'!$AA$11<>""),'0'!$A$11,"") | D11: =IF(OR(IFERROR('0'!$W$11>=$B$3,FALSE),'0'!$AC$11="Forcée",'0'!$X$11<>"",'0'!$AA$11<>""),'0'!$B$11,"") | E11: =IF(OR(IFERROR('0'!$W$11>=$B$3,FALSE),'0'!$AC$11="Forcée",'0'!$X$11<>"",'0'!$AA$11<>""),'0'!$C$11,"") | F11: =IF(OR(IFERROR('0'!$W$11>=$B$3,FALSE),'0'!$AC$11="Forcée",'0'!$X$11<>"",'0'!$AA$11<>""),'0'!$D$11,"") | G11: =IF(OR(IFERROR('0'!$W$11>=$B$3,FALSE),'0'!$AC$11="Forcée",'0'!$X$11<>"",'0'!$AA$11<>""),'0'!$E$11,"") | H11: =IF(OR(IFERROR('0'!$W$11>=$B$3,FALSE),'0'!$AC$11="Forcée",'0'!$X$11<>"",'0'!$AA$11<>""),'0'!$H$11,"") | I11: =IF(OR(IFERROR('0'!$W$11>=$B$3,FALSE),'0'!$AC$11="Forcée",'0'!$X$11<>"",'0'!$AA$11<>""),'0'!$W$11,"") | J11: =IF(A11="","",$B$3) | K11: =IF(A11="","",IF('0'!$AC$11="Forcée","Forcée",IF('0'!$AC$11="Exclue","Exclue","Automatique"))) | L11: =IF(A11="","",IF('0'!$AC$11="Exclue","Exclu",IF('0'!$W$11>=$B$3,"Actif - risque significatif",IF(AND('0'!$W$11<$B$3,'0'!$AD$11="Oui"),"Maîtrisé / clôturable","Maîtrisé - à vérifier")))) | M11: =IF(A11="","",IF('0'!$W$11>=16,"P1 - Critique",IF('0'!$W$11>=13,"P2 - Haute",IF('0'!$W$11>=9,"P3 - Moyenne","P4 - Basse")))) | O11: =IF(A11="","",'0'!$X$11) | R11: =IF(A11="","",'0'!$Z$11) | W11: =IF(A11="","",'0'!$Y$11) | AB11: =IF(A11="","",'0'!$AA$11) | AC11: =IF(A11="","",'0'!$AD$11) | AD11: =IF(A11="","",'0'!$AE$11) | AG11: =IF(A11="","",'0'!$AF$11) | AH11: =IF(A11="","",IFERROR((H11-I11)/H11,0))
A12: =IF(OR(IFERROR('0'!$W$12>=$B$3,FALSE),'0'!$AC$12="Forcée",'0'!$X$12<>"",'0'!$AA$12<>""),"0-12","") | B12: =IF(OR(IFERROR('0'!$W$12>=$B$3,FALSE),'0'!$AC$12="Forcée",'0'!$X$12<>"",'0'!$AA$12<>""),"0","") | C12: =IF(OR(IFERROR('0'!$W$12>=$B$3,FALSE),'0'!$AC$12="Forcée",'0'!$X$12<>"",'0'!$AA$12<>""),'0'!$A$12,"") | D12: =IF(OR(IFERROR('0'!$W$12>=$B$3,FALSE),'0'!$AC$12="Forcée",'0'!$X$12<>"",'0'!$AA$12<>""),'0'!$B$12,"") | E12: =IF(OR(IFERROR('0'!$W$12>=$B$3,FALSE),'0'!$AC$12="Forcée",'0'!$X$12<>"",'0'!$AA$12<>""),'0'!$C$12,"") | F12: =IF(OR(IFERROR('0'!$W$12>=$B$3,FALSE),'0'!$AC$12="Forcée",'0'!$X$12<>"",'0'!$AA$12<>""),'0'!$D$12,"") | G12: =IF(OR(IFERROR('0'!$W$12>=$B$3,FALSE),'0'!$AC$12="Forcée",'0'!$X$12<>"",'0'!$AA$12<>""),'0'!$E$12,"") | H12: =IF(OR(IFERROR('0'!$W$12>=$B$3,FALSE),'0'!$AC$12="Forcée",'0'!$X$12<>"",'0'!$AA$12<>""),'0'!$H$12,"") | I12: =IF(OR(IFERROR('0'!$W$12>=$B$3,FALSE),'0'!$AC$12="Forcée",'0'!$X$12<>"",'0'!$AA$12<>""),'0'!$W$12,"") | J12: =IF(A12="","",$B$3) | K12: =IF(A12="","",IF('0'!$AC$12="Forcée","Forcée",IF('0'!$AC$12="Exclue","Exclue","Automatique"))) | L12: =IF(A12="","",IF('0'!$AC$12="Exclue","Exclu",IF('0'!$W$12>=$B$3,"Actif - risque significatif",IF(AND('0'!$W$12<$B$3,'0'!$AD$12="Oui"),"Maîtrisé / clôturable","Maîtrisé - à vérifier")))) | M12: =IF(A12="","",IF('0'!$W$12>=16,"P1 - Critique",IF('0'!$W$12>=13,"P2 - Haute",IF('0'!$W$12>=9,"P3 - Moyenne","P4 - Basse")))) | O12: =IF(A12="","",'0'!$X$12) | R12: =IF(A12="","",'0'!$Z$12) | W12: =IF(A12="","",'0'!$Y$12) | AB12: =IF(A12="","",'0'!$AA$12) | AC12: =IF(A12="","",'0'!$AD$12) | AD12: =IF(A12="","",'0'!$AE$12) | AG12: =IF(A12="","",'0'!$AF$12) | AH12: =IF(A12="","",IFERROR((H12-I12)/H12,0))
A13: =IF(OR(IFERROR('0'!$W$13>=$B$3,FALSE),'0'!$AC$13="Forcée",'0'!$X$13<>"",'0'!$AA$13<>""),"0-13","") | B13: =IF(OR(IFERROR('0'!$W$13>=$B$3,FALSE),'0'!$AC$13="Forcée",'0'!$X$13<>"",'0'!$AA$13<>""),"0","") | C13: =IF(OR(IFERROR('0'!$W$13>=$B$3,FALSE),'0'!$AC$13="Forcée",'0'!$X$13<>"",'0'!$AA$13<>""),'0'!$A$13,"") | D13: =IF(OR(IFERROR('0'!$W$13>=$B$3,FALSE),'0'!$AC$13="Forcée",'0'!$X$13<>"",'0'!$AA$13<>""),'0'!$B$13,"") | E13: =IF(OR(IFERROR('0'!$W$13>=$B$3,FALSE),'0'!$AC$13="Forcée",'0'!$X$13<>"",'0'!$AA$13<>""),'0'!$C$13,"") | F13: =IF(OR(IFERROR('0'!$W$13>=$B$3,FALSE),'0'!$AC$13="Forcée",'0'!$X$13<>"",'0'!$AA$13<>""),'0'!$D$13,"") | G13: =IF(OR(IFERROR('0'!$W$13>=$B$3,FALSE),'0'!$AC$13="Forcée",'0'!$X$13<>"",'0'!$AA$13<>""),'0'!$E$13,"") | H13: =IF(OR(IFERROR('0'!$W$13>=$B$3,FALSE),'0'!$AC$13="Forcée",'0'!$X$13<>"",'0'!$AA$13<>""),'0'!$H$13,"") | I13: =IF(OR(IFERROR('0'!$W$13>=$B$3,FALSE),'0'!$AC$13="Forcée",'0'!$X$13<>"",'0'!$AA$13<>""),'0'!$W$13,"") | J13: =IF(A13="","",$B$3) | K13: =IF(A13="","",IF('0'!$AC$13="Forcée","Forcée",IF('0'!$AC$13="Exclue","Exclue","Automatique"))) | L13: =IF(A13="","",IF('0'!$AC$13="Exclue","Exclu",IF('0'!$W$13>=$B$3,"Actif - risque significatif",IF(AND('0'!$W$13<$B$3,'0'!$AD$13="Oui"),"Maîtrisé / clôturable","Maîtrisé - à vérifier")))) | M13: =IF(A13="","",IF('0'!$W$13>=16,"P1 - Critique",IF('0'!$W$13>=13,"P2 - Haute",IF('0'!$W$13>=9,"P3 - Moyenne","P4 - Basse")))) | O13: =IF(A13="","",'0'!$X$13) | R13: =IF(A13="","",'0'!$Z$13) | W13: =IF(A13="","",'0'!$Y$13) | AB13: =IF(A13="","",'0'!$AA$13) | AC13: =IF(A13="","",'0'!$AD$13) | AD13: =IF(A13="","",'0'!$AE$13) | AG13: =IF(A13="","",'0'!$AF$13) | AH13: =IF(A13="","",IFERROR((H13-I13)/H13,0))
A14: =IF(OR(IFERROR('0'!$W$14>=$B$3,FALSE),'0'!$AC$14="Forcée",'0'!$X$14<>"",'0'!$AA$14<>""),"0-14","") | B14: =IF(OR(IFERROR('0'!$W$14>=$B$3,FALSE),'0'!$AC$14="Forcée",'0'!$X$14<>"",'0'!$AA$14<>""),"0","") | C14: =IF(OR(IFERROR('0'!$W$14>=$B$3,FALSE),'0'!$AC$14="Forcée",'0'!$X$14<>"",'0'!$AA$14<>""),'0'!$A$14,"") | D14: =IF(OR(IFERROR('0'!$W$14>=$B$3,FALSE),'0'!$AC$14="Forcée",'0'!$X$14<>"",'0'!$AA$14<>""),'0'!$B$14,"") | E14: =IF(OR(IFERROR('0'!$W$14>=$B$3,FALSE),'0'!$AC$14="Forcée",'0'!$X$14<>"",'0'!$AA$14<>""),'0'!$C$14,"") | F14: =IF(OR(IFERROR('0'!$W$14>=$B$3,FALSE),'0'!$AC$14="Forcée",'0'!$X$14<>"",'0'!$AA$14<>""),'0'!$D$14,"") | G14: =IF(OR(IFERROR('0'!$W$14>=$B$3,FALSE),'0'!$AC$14="Forcée",'0'!$X$14<>"",'0'!$AA$14<>""),'0'!$E$14,"") | H14: =IF(OR(IFERROR('0'!$W$14>=$B$3,FALSE),'0'!$AC$14="Forcée",'0'!$X$14<>"",'0'!$AA$14<>""),'0'!$H$14,"") | I14: =IF(OR(IFERROR('0'!$W$14>=$B$3,FALSE),'0'!$AC$14="Forcée",'0'!$X$14<>"",'0'!$AA$14<>""),'0'!$W$14,"") | J14: =IF(A14="","",$B$3) | K14: =IF(A14="","",IF('0'!$AC$14="Forcée","Forcée",IF('0'!$AC$14="Exclue","Exclue","Automatique"))) | L14: =IF(A14="","",IF('0'!$AC$14="Exclue","Exclu",IF('0'!$W$14>=$B$3,"Actif - risque significatif",IF(AND('0'!$W$14<$B$3,'0'!$AD$14="Oui"),"Maîtrisé / clôturable","Maîtrisé - à vérifier")))) | M14: =IF(A14="","",IF('0'!$W$14>=16,"P1 - Critique",IF('0'!$W$14>=13,"P2 - Haute",IF('0'!$W$14>=9,"P3 - Moyenne","P4 - Basse")))) | O14: =IF(A14="","",'0'!$X$14) | R14: =IF(A14="","",'0'!$Z$14) | W14: =IF(A14="","",'0'!$Y$14) | AB14: =IF(A14="","",'0'!$AA$14) | AC14: =IF(A14="","",'0'!$AD$14) | AD14: =IF(A14="","",'0'!$AE$14) | AG14: =IF(A14="","",'0'!$AF$14) | AH14: =IF(A14="","",IFERROR((H14-I14)/H14,0))
A15: =IF(OR(IFERROR('0'!$W$15>=$B$3,FALSE),'0'!$AC$15="Forcée",'0'!$X$15<>"",'0'!$AA$15<>""),"0-15","") | B15: =IF(OR(IFERROR('0'!$W$15>=$B$3,FALSE),'0'!$AC$15="Forcée",'0'!$X$15<>"",'0'!$AA$15<>""),"0","") | C15: =IF(OR(IFERROR('0'!$W$15>=$B$3,FALSE),'0'!$AC$15="Forcée",'0'!$X$15<>"",'0'!$AA$15<>""),'0'!$A$15,"") | D15: =IF(OR(IFERROR('0'!$W$15>=$B$3,FALSE),'0'!$AC$15="Forcée",'0'!$X$15<>"",'0'!$AA$15<>""),'0'!$B$15,"") | E15: =IF(OR(IFERROR('0'!$W$15>=$B$3,FALSE),'0'!$AC$15="Forcée",'0'!$X$15<>"",'0'!$AA$15<>""),'0'!$C$15,"") | F15: =IF(OR(IFERROR('0'!$W$15>=$B$3,FALSE),'0'!$AC$15="Forcée",'0'!$X$15<>"",'0'!$AA$15<>""),'0'!$D$15,"") | G15: =IF(OR(IFERROR('0'!$W$15>=$B$3,FALSE),'0'!$AC$15="Forcée",'0'!$X$15<>"",'0'!$AA$15<>""),'0'!$E$15,"") | H15: =IF(OR(IFERROR('0'!$W$15>=$B$3,FALSE),'0'!$AC$15="Forcée",'0'!$X$15<>"",'0'!$AA$15<>""),'0'!$H$15,"") | I15: =IF(OR(IFERROR('0'!$W$15>=$B$3,FALSE),'0'!$AC$15="Forcée",'0'!$X$15<>"",'0'!$AA$15<>""),'0'!$W$15,"") | J15: =IF(A15="","",$B$3) | K15: =IF(A15="","",IF('0'!$AC$15="Forcée","Forcée",IF('0'!$AC$15="Exclue","Exclue","Automatique"))) | L15: =IF(A15="","",IF('0'!$AC$15="Exclue","Exclu",IF('0'!$W$15>=$B$3,"Actif - risque significatif",IF(AND('0'!$W$15<$B$3,'0'!$AD$15="Oui"),"Maîtrisé / clôturable","Maîtrisé - à vérifier")))) | M15: =IF(A15="","",IF('0'!$W$15>=16,"P1 - Critique",IF('0'!$W$15>=13,"P2 - Haute",IF('0'!$W$15>=9,"P3 - Moyenne","P4 - Basse")))) | O15: =IF(A15="","",'0'!$X$15) | R15: =IF(A15="","",'0'!$Z$15) | W15: =IF(A15="","",'0'!$Y$15) | AB15: =IF(A15="","",'0'!$AA$15) | AC15: =IF(A15="","",'0'!$AD$15) | AD15: =IF(A15="","",'0'!$AE$15) | AG15: =IF(A15="","",'0'!$AF$15) | AH15: =IF(A15="","",IFERROR((H15-I15)/H15,0))
A16: =IF(OR(IFERROR('0'!$W$16>=$B$3,FALSE),'0'!$AC$16="Forcée",'0'!$X$16<>"",'0'!$AA$16<>""),"0-16","") | B16: =IF(OR(IFERROR('0'!$W$16>=$B$3,FALSE),'0'!$AC$16="Forcée",'0'!$X$16<>"",'0'!$AA$16<>""),"0","") | C16: =IF(OR(IFERROR('0'!$W$16>=$B$3,FALSE),'0'!$AC$16="Forcée",'0'!$X$16<>"",'0'!$AA$16<>""),'0'!$A$16,"") | D16: =IF(OR(IFERROR('0'!$W$16>=$B$3,FALSE),'0'!$AC$16="Forcée",'0'!$X$16<>"",'0'!$AA$16<>""),'0'!$B$16,"") | E16: =IF(OR(IFERROR('0'!$W$16>=$B$3,FALSE),'0'!$AC$16="Forcée",'0'!$X$16<>"",'0'!$AA$16<>""),'0'!$C$16,"") | F16: =IF(OR(IFERROR('0'!$W$16>=$B$3,FALSE),'0'!$AC$16="Forcée",'0'!$X$16<>"",'0'!$AA$16<>""),'0'!$D$16,"") | G16: =IF(OR(IFERROR('0'!$W$16>=$B$3,FALSE),'0'!$AC$16="Forcée",'0'!$X$16<>"",'0'!$AA$16<>""),'0'!$E$16,"") | H16: =IF(OR(IFERROR('0'!$W$16>=$B$3,FALSE),'0'!$AC$16="Forcée",'0'!$X$16<>"",'0'!$AA$16<>""),'0'!$H$16,"") | I16: =IF(OR(IFERROR('0'!$W$16>=$B$3,FALSE),'0'!$AC$16="Forcée",'0'!$X$16<>"",'0'!$AA$16<>""),'0'!$W$16,"") | J16: =IF(A16="","",$B$3) | K16: =IF(A16="","",IF('0'!$AC$16="Forcée","Forcée",IF('0'!$AC$16="Exclue","Exclue","Automatique"))) | L16: =IF(A16="","",IF('0'!$AC$16="Exclue","Exclu",IF('0'!$W$16>=$B$3,"Actif - risque significatif",IF(AND('0'!$W$16<$B$3,'0'!$AD$16="Oui"),"Maîtrisé / clôturable","Maîtrisé - à vérifier")))) | M16: =IF(A16="","",IF('0'!$W$16>=16,"P1 - Critique",IF('0'!$W$16>=13,"P2 - Haute",IF('0'!$W$16>=9,"P3 - Moyenne","P4 - Basse")))) | O16: =IF(A16="","",'0'!$X$16) | R16: =IF(A16="","",'0'!$Z$16) | W16: =IF(A16="","",'0'!$Y$16) | AB16: =IF(A16="","",'0'!$AA$16) | AC16: =IF(A16="","",'0'!$AD$16) | AD16: =IF(A16="","",'0'!$AE$16) | AG16: =IF(A16="","",'0'!$AF$16) | AH16: =IF(A16="","",IFERROR((H16-I16)/H16,0))
A17: =IF(OR(IFERROR('0'!$W$17>=$B$3,FALSE),'0'!$AC$17="Forcée",'0'!$X$17<>"",'0'!$AA$17<>""),"0-17","") | B17: =IF(OR(IFERROR('0'!$W$17>=$B$3,FALSE),'0'!$AC$17="Forcée",'0'!$X$17<>"",'0'!$AA$17<>""),"0","") | C17: =IF(OR(IFERROR('0'!$W$17>=$B$3,FALSE),'0'!$AC$17="Forcée",'0'!$X$17<>"",'0'!$AA$17<>""),'0'!$A$17,"") | D17: =IF(OR(IFERROR('0'!$W$17>=$B$3,FALSE),'0'!$AC$17="Forcée",'0'!$X$17<>"",'0'!$AA$17<>""),'0'!$B$17,"") | E17: =IF(OR(IFERROR('0'!$W$17>=$B$3,FALSE),'0'!$AC$17="Forcée",'0'!$X$17<>"",'0'!$AA$17<>""),'0'!$C$17,"") | F17: =IF(OR(IFERROR('0'!$W$17>=$B$3,FALSE),'0'!$AC$17="Forcée",'0'!$X$17<>"",'0'!$AA$17<>""),'0'!$D$17,"") | G17: =IF(OR(IFERROR('0'!$W$17>=$B$3,FALSE),'0'!$AC$17="Forcée",'0'!$X$17<>"",'0'!$AA$17<>""),'0'!$E$17,"") | H17: =IF(OR(IFERROR('0'!$W$17>=$B$3,FALSE),'0'!$AC$17="Forcée",'0'!$X$17<>"",'0'!$AA$17<>""),'0'!$H$17,"") | I17: =IF(OR(IFERROR('0'!$W$17>=$B$3,FALSE),'0'!$AC$17="Forcée",'0'!$X$17<>"",'0'!$AA$17<>""),'0'!$W$17,"") | J17: =IF(A17="","",$B$3) | K17: =IF(A17="","",IF('0'!$AC$17="Forcée","Forcée",IF('0'!$AC$17="Exclue","Exclue","Automatique"))) | L17: =IF(A17="","",IF('0'!$AC$17="Exclue","Exclu",IF('0'!$W$17>=$B$3,"Actif - risque significatif",IF(AND('0'!$W$17<$B$3,'0'!$AD$17="Oui"),"Maîtrisé / clôturable","Maîtrisé - à vérifier")))) | M17: =IF(A17="","",IF('0'!$W$17>=16,"P1 - Critique",IF('0'!$W$17>=13,"P2 - Haute",IF('0'!$W$17>=9,"P3 - Moyenne","P4 - Basse")))) | O17: =IF(A17="","",'0'!$X$17) | R17: =IF(A17="","",'0'!$Z$17) | W17: =IF(A17="","",'0'!$Y$17) | AB17: =IF(A17="","",'0'!$AA$17) | AC17: =IF(A17="","",'0'!$AD$17) | AD17: =IF(A17="","",'0'!$AE$17) | AG17: =IF(A17="","",'0'!$AF$17) | AH17: =IF(A17="","",IFERROR((H17-I17)/H17,0))
A18: =IF(OR(IFERROR('0'!$W$18>=$B$3,FALSE),'0'!$AC$18="Forcée",'0'!$X$18<>"",'0'!$AA$18<>""),"0-18","") | B18: =IF(OR(IFERROR('0'!$W$18>=$B$3,FALSE),'0'!$AC$18="Forcée",'0'!$X$18<>"",'0'!$AA$18<>""),"0","") | C18: =IF(OR(IFERROR('0'!$W$18>=$B$3,FALSE),'0'!$AC$18="Forcée",'0'!$X$18<>"",'0'!$AA$18<>""),'0'!$A$18,"") | D18: =IF(OR(IFERROR('0'!$W$18>=$B$3,FALSE),'0'!$AC$18="Forcée",'0'!$X$18<>"",'0'!$AA$18<>""),'0'!$B$18,"") | E18: =IF(OR(IFERROR('0'!$W$18>=$B$3,FALSE),'0'!$AC$18="Forcée",'0'!$X$18<>"",'0'!$AA$18<>""),'0'!$C$18,"") | F18: =IF(OR(IFERROR('0'!$W$18>=$B$3,FALSE),'0'!$AC$18="Forcée",'0'!$X$18<>"",'0'!$AA$18<>""),'0'!$D$18,"") | G18: =IF(OR(IFERROR('0'!$W$18>=$B$3,FALSE),'0'!$AC$18="Forcée",'0'!$X$18<>"",'0'!$AA$18<>""),'0'!$E$18,"") | H18: =IF(OR(IFERROR('0'!$W$18>=$B$3,FALSE),'0'!$AC$18="Forcée",'0'!$X$18<>"",'0'!$AA$18<>""),'0'!$H$18,"") | I18: =IF(OR(IFERROR('0'!$W$18>=$B$3,FALSE),'0'!$AC$18="Forcée",'0'!$X$18<>"",'0'!$AA$18<>""),'0'!$W$18,"") | J18: =IF(A18="","",$B$3) | K18: =IF(A18="","",IF('0'!$AC$18="Forcée","Forcée",IF('0'!$AC$18="Exclue","Exclue","Automatique"))) | L18: =IF(A18="","",IF('0'!$AC$18="Exclue","Exclu",IF('0'!$W$18>=$B$3,"Actif - risque significatif",IF(AND('0'!$W$18<$B$3,'0'!$AD$18="Oui"),"Maîtrisé / clôturable","Maîtrisé - à vérifier")))) | M18: =IF(A18="","",IF('0'!$W$18>=16,"P1 - Critique",IF('0'!$W$18>=13,"P2 - Haute",IF('0'!$W$18>=9,"P3 - Moyenne","P4 - Basse")))) | O18: =IF(A18="","",'0'!$X$18) | R18: =IF(A18="","",'0'!$Z$18) | W18: =IF(A18="","",'0'!$Y$18) | AB18: =IF(A18="","",'0'!$AA$18) | AC18: =IF(A18="","",'0'!$AD$18) | AD18: =IF(A18="","",'0'!$AE$18) | AG18: =IF(A18="","",'0'!$AF$18) | AH18: =IF(A18="","",IFERROR((H18-I18)/H18,0))
A19: =IF(OR(IFERROR('0'!$W$19>=$B$3,FALSE),'0'!$AC$19="Forcée",'0'!$X$19<>"",'0'!$AA$19<>""),"0-19","") | B19: =IF(OR(IFERROR('0'!$W$19>=$B$3,FALSE),'0'!$AC$19="Forcée",'0'!$X$19<>"",'0'!$AA$19<>""),"0","") | C19: =IF(OR(IFERROR('0'!$W$19>=$B$3,FALSE),'0'!$AC$19="Forcée",'0'!$X$19<>"",'0'!$AA$19<>""),'0'!$A$19,"") | D19: =IF(OR(IFERROR('0'!$W$19>=$B$3,FALSE),'0'!$AC$19="Forcée",'0'!$X$19<>"",'0'!$AA$19<>""),'0'!$B$19,"") | E19: =IF(OR(IFERROR('0'!$W$19>=$B$3,FALSE),'0'!$AC$19="Forcée",'0'!$X$19<>"",'0'!$AA$19<>""),'0'!$C$19,"") | F19: =IF(OR(IFERROR('0'!$W$19>=$B$3,FALSE),'0'!$AC$19="Forcée",'0'!$X$19<>"",'0'!$AA$19<>""),'0'!$D$19,"") | G19: =IF(OR(IFERROR('0'!$W$19>=$B$3,FALSE),'0'!$AC$19="Forcée",'0'!$X$19<>"",'0'!$AA$19<>""),'0'!$E$19,"") | H19: =IF(OR(IFERROR('0'!$W$19>=$B$3,FALSE),'0'!$AC$19="Forcée",'0'!$X$19<>"",'0'!$AA$19<>""),'0'!$H$19,"") | I19: =IF(OR(IFERROR('0'!$W$19>=$B$3,FALSE),'0'!$AC$19="Forcée",'0'!$X$19<>"",'0'!$AA$19<>""),'0'!$W$19,"") | J19: =IF(A19="","",$B$3) | K19: =IF(A19="","",IF('0'!$AC$19="Forcée","Forcée",IF('0'!$AC$19="Exclue","Exclue","Automatique"))) | L19: =IF(A19="","",IF('0'!$AC$19="Exclue","Exclu",IF('0'!$W$19>=$B$3,"Actif - risque significatif",IF(AND('0'!$W$19<$B$3,'0'!$AD$19="Oui"),"Maîtrisé / clôturable","Maîtrisé - à vérifier")))) | M19: =IF(A19="","",IF('0'!$W$19>=16,"P1 - Critique",IF('0'!$W$19>=13,"P2 - Haute",IF('0'!$W$19>=9,"P3 - Moyenne","P4 - Basse")))) | O19: =IF(A19="","",'0'!$X$19) | R19: =IF(A19="","",'0'!$Z$19) | W19: =IF(A19="","",'0'!$Y$19) | AB19: =IF(A19="","",'0'!$AA$19) | AC19: =IF(A19="","",'0'!$AD$19) | AD19: =IF(A19="","",'0'!$AE$19) | AG19: =IF(A19="","",'0'!$AF$19) | AH19: =IF(A19="","",IFERROR((H19-I19)/H19,0))
A20: =IF(OR(IFERROR('0'!$W$20>=$B$3,FALSE),'0'!$AC$20="Forcée",'0'!$X$20<>"",'0'!$AA$20<>""),"0-20","") | B20: =IF(OR(IFERROR('0'!$W$20>=$B$3,FALSE),'0'!$AC$20="Forcée",'0'!$X$20<>"",'0'!$AA$20<>""),"0","") | C20: =IF(OR(IFERROR('0'!$W$20>=$B$3,FALSE),'0'!$AC$20="Forcée",'0'!$X$20<>"",'0'!$AA$20<>""),'0'!$A$20,"") | D20: =IF(OR(IFERROR('0'!$W$20>=$B$3,FALSE),'0'!$AC$20="Forcée",'0'!$X$20<>"",'0'!$AA$20<>""),'0'!$B$20,"") | E20: =IF(OR(IFERROR('0'!$W$20>=$B$3,FALSE),'0'!$AC$20="Forcée",'0'!$X$20<>"",'0'!$AA$20<>""),'0'!$C$20,"") | F20: =IF(OR(IFERROR('0'!$W$20>=$B$3,FALSE),'0'!$AC$20="Forcée",'0'!$X$20<>"",'0'!$AA$20<>""),'0'!$D$20,"") | G20: =IF(OR(IFERROR('0'!$W$20>=$B$3,FALSE),'0'!$AC$20="Forcée",'0'!$X$20<>"",'0'!$AA$20<>""),'0'!$E$20,"") | H20: =IF(OR(IFERROR('0'!$W$20>=$B$3,FALSE),'0'!$AC$20="Forcée",'0'!$X$20<>"",'0'!$AA$20<>""),'0'!$H$20,"") | I20: =IF(OR(IFERROR('0'!$W$20>=$B$3,FALSE),'0'!$AC$20="Forcée",'0'!$X$20<>"",'0'!$AA$20<>""),'0'!$W$20,"") | J20: =IF(A20="","",$B$3) | K20: =IF(A20="","",IF('0'!$AC$20="Forcée","Forcée",IF('0'!$AC$20="Exclue","Exclue","Automatique"))) | L20: =IF(A20="","",IF('0'!$AC$20="Exclue","Exclu",IF('0'!$W$20>=$B$3,"Actif - risque significatif",IF(AND('0'!$W$20<$B$3,'0'!$AD$20="Oui"),"Maîtrisé / clôturable","Maîtrisé - à vérifier")))) | M20: =IF(A20="","",IF('0'!$W$20>=16,"P1 - Critique",IF('0'!$W$20>=13,"P2 - Haute",IF('0'!$W$20>=9,"P3 - Moyenne","P4 - Basse")))) | O20: =IF(A20="","",'0'!$X$20) | R20: =IF(A20="","",'0'!$Z$20) | W20: =IF(A20="","",'0'!$Y$20) | AB20: =IF(A20="","",'0'!$AA$20) | AC20: =IF(A20="","",'0'!$AD$20) | AD20: =IF(A20="","",'0'!$AE$20) | AG20: =IF(A20="","",'0'!$AF$20) | AH20: =IF(A20="","",IFERROR((H20-I20)/H20,0))
A21: =IF(OR(IFERROR('0'!$W$21>=$B$3,FALSE),'0'!$AC$21="Forcée",'0'!$X$21<>"",'0'!$AA$21<>""),"0-21","") | B21: =IF(OR(IFERROR('0'!$W$21>=$B$3,FALSE),'0'!$AC$21="Forcée",'0'!$X$21<>"",'0'!$AA$21<>""),"0","") | C21: =IF(OR(IFERROR('0'!$W$21>=$B$3,FALSE),'0'!$AC$21="Forcée",'0'!$X$21<>"",'0'!$AA$21<>""),'0'!$A$21,"") | D21: =IF(OR(IFERROR('0'!$W$21>=$B$3,FALSE),'0'!$AC$21="Forcée",'0'!$X$21<>"",'0'!$AA$21<>""),'0'!$B$21,"") | E21: =IF(OR(IFERROR('0'!$W$21>=$B$3,FALSE),'0'!$AC$21="Forcée",'0'!$X$21<>"",'0'!$AA$21<>""),'0'!$C$21,"") | F21: =IF(OR(IFERROR('0'!$W$21>=$B$3,FALSE),'0'!$AC$21="Forcée",'0'!$X$21<>"",'0'!$AA$21<>""),'0'!$D$21,"") | G21: =IF(OR(IFERROR('0'!$W$21>=$B$3,FALSE),'0'!$AC$21="Forcée",'0'!$X$21<>"",'0'!$AA$21<>""),'0'!$E$21,"") | H21: =IF(OR(IFERROR('0'!$W$21>=$B$3,FALSE),'0'!$AC$21="Forcée",'0'!$X$21<>"",'0'!$AA$21<>""),'0'!$H$21,"") | I21: =IF(OR(IFERROR('0'!$W$21>=$B$3,FALSE),'0'!$AC$21="Forcée",'0'!$X$21<>"",'0'!$AA$21<>""),'0'!$W$21,"") | J21: =IF(A21="","",$B$3) | K21: =IF(A21="","",IF('0'!$AC$21="Forcée","Forcée",IF('0'!$AC$21="Exclue","Exclue","Automatique"))) | L21: =IF(A21="","",IF('0'!$AC$21="Exclue","Exclu",IF('0'!$W$21>=$B$3,"Actif - risque significatif",IF(AND('0'!$W$21<$B$3,'0'!$AD$21="Oui"),"Maîtrisé / clôturable","Maîtrisé - à vérifier")))) | M21: =IF(A21="","",IF('0'!$W$21>=16,"P1 - Critique",IF('0'!$W$21>=13,"P2 - Haute",IF('0'!$W$21>=9,"P3 - Moyenne","P4 - Basse")))) | O21: =IF(A21="","",'0'!$X$21) | R21: =IF(A21="","",'0'!$Z$21) | W21: =IF(A21="","",'0'!$Y$21) | AB21: =IF(A21="","",'0'!$AA$21) | AC21: =IF(A21="","",'0'!$AD$21) | AD21: =IF(A21="","",'0'!$AE$21) | AG21: =IF(A21="","",'0'!$AF$21) | AH21: =IF(A21="","",IFERROR((H21-I21)/H21,0))
A22: =IF(OR(IFERROR('0'!$W$22>=$B$3,FALSE),'0'!$AC$22="Forcée",'0'!$X$22<>"",'0'!$AA$22<>""),"0-22","") | B22: =IF(OR(IFERROR('0'!$W$22>=$B$3,FALSE),'0'!$AC$22="Forcée",'0'!$X$22<>"",'0'!$AA$22<>""),"0","") | C22: =IF(OR(IFERROR('0'!$W$22>=$B$3,FALSE),'0'!$AC$22="Forcée",'0'!$X$22<>"",'0'!$AA$22<>""),'0'!$A$22,"") | D22: =IF(OR(IFERROR('0'!$W$22>=$B$3,FALSE),'0'!$AC$22="Forcée",'0'!$X$22<>"",'0'!$AA$22<>""),'0'!$B$22,"") | E22: =IF(OR(IFERROR('0'!$W$22>=$B$3,FALSE),'0'!$AC$22="Forcée",'0'!$X$22<>"",'0'!$AA$22<>""),'0'!$C$22,"") | F22: =IF(OR(IFERROR('0'!$W$22>=$B$3,FALSE),'0'!$AC$22="Forcée",'0'!$X$22<>"",'0'!$AA$22<>""),'0'!$D$22,"") | G22: =IF(OR(IFERROR('0'!$W$22>=$B$3,FALSE),'0'!$AC$22="Forcée",'0'!$X$22<>"",'0'!$AA$22<>""),'0'!$E$22,"") | H22: =IF(OR(IFERROR('0'!$W$22>=$B$3,FALSE),'0'!$AC$22="Forcée",'0'!$X$22<>"",'0'!$AA$22<>""),'0'!$H$22,"") | I22: =IF(OR(IFERROR('0'!$W$22>=$B$3,FALSE),'0'!$AC$22="Forcée",'0'!$X$22<>"",'0'!$AA$22<>""),'0'!$W$22,"") | J22: =IF(A22="","",$B$3) | K22: =IF(A22="","",IF('0'!$AC$22="Forcée","Forcée",IF('0'!$AC$22="Exclue","Exclue","Automatique"))) | L22: =IF(A22="","",IF('0'!$AC$22="Exclue","Exclu",IF('0'!$W$22>=$B$3,"Actif - risque significatif",IF(AND('0'!$W$22<$B$3,'0'!$AD$22="Oui"),"Maîtrisé / clôturable","Maîtrisé - à vérifier")))) | M22: =IF(A22="","",IF('0'!$W$22>=16,"P1 - Critique",IF('0'!$W$22>=13,"P2 - Haute",IF('0'!$W$22>=9,"P3 - Moyenne","P4 - Basse")))) | O22: =IF(A22="","",'0'!$X$22) | R22: =IF(A22="","",'0'!$Z$22) | W22: =IF(A22="","",'0'!$Y$22) | AB22: =IF(A22="","",'0'!$AA$22) | AC22: =IF(A22="","",'0'!$AD$22) | AD22: =IF(A22="","",'0'!$AE$22) | AG22: =IF(A22="","",'0'!$AF$22) | AH22: =IF(A22="","",IFERROR((H22-I22)/H22,0))
A23: =IF(OR(IFERROR('0'!$W$23>=$B$3,FALSE),'0'!$AC$23="Forcée",'0'!$X$23<>"",'0'!$AA$23<>""),"0-23","") | B23: =IF(OR(IFERROR('0'!$W$23>=$B$3,FALSE),'0'!$AC$23="Forcée",'0'!$X$23<>"",'0'!$AA$23<>""),"0","") | C23: =IF(OR(IFERROR('0'!$W$23>=$B$3,FALSE),'0'!$AC$23="Forcée",'0'!$X$23<>"",'0'!$AA$23<>""),'0'!$A$23,"") | D23: =IF(OR(IFERROR('0'!$W$23>=$B$3,FALSE),'0'!$AC$23="Forcée",'0'!$X$23<>"",'0'!$AA$23<>""),'0'!$B$23,"") | E23: =IF(OR(IFERROR('0'!$W$23>=$B$3,FALSE),'0'!$AC$23="Forcée",'0'!$X$23<>"",'0'!$AA$23<>""),'0'!$C$23,"") | F23: =IF(OR(IFERROR('0'!$W$23>=$B$3,FALSE),'0'!$AC$23="Forcée",'0'!$X$23<>"",'0'!$AA$23<>""),'0'!$D$23,"") | G23: =IF(OR(IFERROR('0'!$W$23>=$B$3,FALSE),'0'!$AC$23="Forcée",'0'!$X$23<>"",'0'!$AA$23<>""),'0'!$E$23,"") | H23: =IF(OR(IFERROR('0'!$W$23>=$B$3,FALSE),'0'!$AC$23="Forcée",'0'!$X$23<>"",'0'!$AA$23<>""),'0'!$H$23,"") | I23: =IF(OR(IFERROR('0'!$W$23>=$B$3,FALSE),'0'!$AC$23="Forcée",'0'!$X$23<>"",'0'!$AA$23<>""),'0'!$W$23,"") | J23: =IF(A23="","",$B$3) | K23: =IF(A23="","",IF('0'!$AC$23="Forcée","Forcée",IF('0'!$AC$23="Exclue","Exclue","Automatique"))) | L23: =IF(A23="","",IF('0'!$AC$23="Exclue","Exclu",IF('0'!$W$23>=$B$3,"Actif - risque significatif",IF(AND('0'!$W$23<$B$3,'0'!$AD$23="Oui"),"Maîtrisé / clôturable","Maîtrisé - à vérifier")))) | M23: =IF(A23="","",IF('0'!$W$23>=16,"P1 - Critique",IF('0'!$W$23>=13,"P2 - Haute",IF('0'!$W$23>=9,"P3 - Moyenne","P4 - Basse")))) | O23: =IF(A23="","",'0'!$X$23) | R23: =IF(A23="","",'0'!$Z$23) | W23: =IF(A23="","",'0'!$Y$23) | AB23: =IF(A23="","",'0'!$AA$23) | AC23: =IF(A23="","",'0'!$AD$23) | AD23: =IF(A23="","",'0'!$AE$23) | AG23: =IF(A23="","",'0'!$AF$23) | AH23: =IF(A23="","",IFERROR((H23-I23)/H23,0))
